BEGIN:VCALENDAR
VERSION:2.0
PRODID:-//せき情報局 - ECPv6.15.16//NONSGML v1.0//EN
CALSCALE:GREGORIAN
METHOD:PUBLISH
X-WR-CALNAME:せき情報局
X-ORIGINAL-URL:https://sekicity.info
X-WR-CALDESC:せき情報局 のイベント
REFRESH-INTERVAL;VALUE=DURATION:PT1H
X-Robots-Tag:noindex
X-PUBLISHED-TTL:PT1H
BEGIN:VTIMEZONE
TZID:Asia/Tokyo
BEGIN:STANDARD
TZOFFSETFROM:+0900
TZOFFSETTO:+0900
TZNAME:JST
DTSTART:20240101T000000
END:STANDARD
END:VTIMEZONE
BEGIN:VEVENT
DTSTART;TZID=Asia/Tokyo:20250509T100000
DTEND;TZID=Asia/Tokyo:20250510T170000
DTSTAMP:20260421T222343
CREATED:20250406T062354Z
LAST-MODIFIED:20250430T073730Z
UID:10000024-1746784800-1746896400@sekicity.info
SUMMARY:ビジネスプラス展in SEKI 2025
DESCRIPTION:5月9日（金曜日）、10日（土曜日）の2日間、ものづくりからサービスまで、さまざまな分野の出展者が関に集結し、自慢の技術や製品などをPRします。 \n今回で12回目を迎えました！ \n \nわかくさ・プラザ　アテナ工業アリーナ（総合体育館)　メインアリーナを会場に、出展企業81社が集結し、実施します。 \n学生さんもお子さまも、どなたでも大歓迎の一般開放型の企業展で、入場は無料です。来場者には会場内を巡っていただくことで、ノベルティグッズなど、プレゼントを用意しています。 \n地元の“すてき”を見つけにきてください。 \n▶︎パンフレットPDFはこちら \n展示会場配置図・出展企業の紹介\n      \n＼SNSでシェアしてください！／\n				Facebook で共有 (新しいウィンドウで開きます)\n				Facebook\n			\n				X で共有 (新しいウィンドウで開きます)\n				X
URL:https://sekicity.info/event/business-plus-seki2025/
LOCATION:わかくさ・プラザ\, 若草通２丁目１\, 関市\, 岐阜県\, 501-3802\, Japan
CATEGORIES:体験・ワークショップ,地域交流
ATTACH;FMTTYPE=image/jpeg:https://sekicity.info/wp-content/uploads/2025/04/panfuretto_page-0001.jpg
END:VEVENT
BEGIN:VEVENT
DTSTART;TZID=Asia/Tokyo:20250505T100000
DTEND;TZID=Asia/Tokyo:20250505T160000
DTSTAMP:20260421T222343
CREATED:20250502T062455Z
LAST-MODIFIED:20250502T062956Z
UID:10000057-1746439200-1746460800@sekicity.info
SUMMARY:おとなもこどもも遊びつくそう！ゴールデンウィークスペシャル2025
DESCRIPTION:2025/5/5（祝・月）は関市でゴールデンウィークスペシャル2025！ \n今回は「おとなもこどもも遊びつくそう！」をテーマに、関のものづくりを体験出来るエリアをはじめ、親子で体験できるプログラミング教室、またしゃぼん玉ショーや恐竜さんぽなど、おとなもこどもも楽しめるイベントが盛りだくさん！また『昭和』をキーワードにした料理教室や昔あそびも開催します。こどもからおとなまで親子3世代が楽しめる思い出深い一日をお楽しみください。 \n場所：わかくさ・プラザ 学習情報館・総合福祉会館・アテナ工業アリーナ \nショー、料理教室、ものづくり、イベントたくさん！\n \n \n【関のものづくり体験】関市で活躍する団体が開催するものづくり体験エリア。\n【GW屋内スペシャルマルシェ】可愛い雑貨の販売やワークショップブースが登場。\n【バブリン先生のしゃぼん玉ショー】しゃぼん玉エンターティナー、バブリン先生と一緒に遊ぼう！\n【GW親子料理教室】昭和の喫茶文化をテーマにミックスジュースやチョコバナナクレープを作ろう！（満席にて予約受付終了。）\n【GWは恐竜と遊ぼう！】恐竜さんぽや恐竜VSキングコングなど、恐竜イベントが盛りだくさん！\n【なつかしの昭和～昔あそび】昭和に流行した昔あそびコーナー、親子3世代で楽しく遊ぼう！ \nお問合せ：0575-23-7779＜イベント担当＞ \n  \n＼SNSでシェアしてください！／\n				Facebook で共有 (新しいウィンドウで開きます)\n				Facebook\n			\n				X で共有 (新しいウィンドウで開きます)\n				X
URL:https://sekicity.info/event/20250505goldenweekspecial/
LOCATION:わかくさ・プラザ\, 若草通２丁目１\, 関市\, 岐阜県\, 501-3802\, Japan
CATEGORIES:親子向け
ATTACH;FMTTYPE=image/jpeg:https://sekicity.info/wp-content/uploads/2025/05/wakakusa20250505.jpg
END:VEVENT
BEGIN:VEVENT
DTSTART;TZID=Asia/Tokyo:20250427T130000
DTEND;TZID=Asia/Tokyo:20250427T160000
DTSTAMP:20260421T222343
CREATED:20250411T094757Z
LAST-MODIFIED:20250411T094757Z
UID:10000043-1745758800-1745769600@sekicity.info
SUMMARY:ダンボールコンポスト講習会
DESCRIPTION:次のとおり「ダンボールコンポスト講習会」を開催します。 \nダンボールを利用した生ごみ処理容器で、微生物の力を借りて生ごみの減量化を図りませんか。 \n\n日時\n\n令和7年4月27日（日）　午後1時～、午後2時半～ \n\n場所\n\nわかくさ・プラザ　学習情報館2階　創作実習室 \n\n対象\n\n市内在住の方 \n\n定員\n\n各回10組（申し込み順） \n\n受講料\n\n200円（ダンボールコンポスト1セット代。購入は2セットまで。必要でない方は無料） \n\n持ち物\n\n不要なTシャツ（ある方のみ、何枚でも可）\n※男性Ⅿサイズ、女性Ⅼサイズ以上\n※ダンボールコンポストの虫よけキャップの材料として今後使用させていただきます \n\n申込方法\n\n下記の申込フォームまたは電話にてお申し込みください。\n申込フォーム（別ウインドウで開く）\n電話　0575-23-7702 \n関市役所市民環境部環境課 \n\n＼SNSでシェアしてください！／\n				Facebook で共有 (新しいウィンドウで開きます)\n				Facebook\n			\n				X で共有 (新しいウィンドウで開きます)\n				X
URL:https://sekicity.info/event/compost20250426/
LOCATION:わかくさ・プラザ\, 若草通２丁目１\, 関市\, 岐阜県\, 501-3802\, Japan
CATEGORIES:体験・ワークショップ
ATTACH;FMTTYPE=image/jpeg:https://sekicity.info/wp-content/uploads/2025/04/danbochirashi_page-0001.jpg
END:VEVENT
BEGIN:VEVENT
DTSTART;TZID=Asia/Tokyo:20250302T093000
DTEND;TZID=Asia/Tokyo:20250302T120500
DTSTAMP:20260421T222343
CREATED:20250228T064055Z
LAST-MODIFIED:20250430T073917Z
UID:10000019-1740907800-1740917100@sekicity.info
SUMMARY:令和6年度市民活動助成金活動報告会
DESCRIPTION:市民活動助成金制度は、住民主体の地域づくりを支援するために、市民活動団体が実施する地域課題の解決及び地域の活性化を図る事業に対して支援を行う制度です。 \n今年度の助成対象になった15団体が、さまざまな分野でまちづくり活動に取り組んだ様子を市民の皆さんに知っていただくために、公開で報告会を開催します。 \n開催日時　：令和7年3月2日（日）　午前9時30分から午前12時05分まで \n開催場所　：せきてらす　多目的ホール　じゆうなひろま \n報告団体　：15団体 \nときめき助成金（8団体）\n「刀舞連」、「孫六座」、「津保川台・虹ケ丘シニアクラブ」、「さくらウインドウオーケストラ」、「特定非営利活動法人せき・まちづくりNPOぶうめらん」、「道-TAO-」、「在日ベトナム学生青年協会岐阜支部」 \nきらめき助成金（7団体）\n「武芸川音楽祭実行委員会」、「高齢者福祉美容療法会」、「むつびと」、「NPO法人自然、生活共生会」、「医療的ケアの必要な重症心身障がい児支援を考える会」、「ご当地美食音マーケット実行委員会」、「関市まちづくり協議会」 \n【お問合せ先】 関市役所　市民協働課\n電話：0575-23-6751\nメール：shiminkyodo@city.seki.lg.jp \n＼SNSでシェアしてください！／\n				Facebook で共有 (新しいウィンドウで開きます)\n				Facebook\n			\n				X で共有 (新しいウィンドウで開きます)\n				X
URL:https://sekicity.info/event/20250228sekiinfo/
LOCATION:わかくさ・プラザ\, 若草通２丁目１\, 関市\, 岐阜県\, 501-3802\, Japan
CATEGORIES:セミナー・講演会
ATTACH;FMTTYPE=image/png:https://sekicity.info/wp-content/uploads/2025/02/r6shiminjosei.png
END:VEVENT
END:VCALENDAR