BEGIN:VCALENDAR
VERSION:2.0
PRODID:-//せき情報局 - ECPv6.15.16//NONSGML v1.0//EN
CALSCALE:GREGORIAN
METHOD:PUBLISH
X-WR-CALNAME:せき情報局
X-ORIGINAL-URL:https://sekicity.info
X-WR-CALDESC:せき情報局 のイベント
REFRESH-INTERVAL;VALUE=DURATION:PT1H
X-Robots-Tag:noindex
X-PUBLISHED-TTL:PT1H
BEGIN:VTIMEZONE
TZID:Asia/Tokyo
BEGIN:STANDARD
TZOFFSETFROM:+0900
TZOFFSETTO:+0900
TZNAME:JST
DTSTART:20240101T000000
END:STANDARD
END:VTIMEZONE
BEGIN:VEVENT
DTSTART;TZID=Asia/Tokyo:20260328T130000
DTEND;TZID=Asia/Tokyo:20260328T154000
DTSTAMP:20260421T204434
CREATED:20260315T020118Z
LAST-MODIFIED:20260315T020118Z
UID:10000230-1774702800-1774712400@sekicity.info
SUMMARY:誰でも参加OK！ 若者×大人で考える「まちの未来 こどもの未来」（関高等学校の探究活動発表会＆ワークショップ）
DESCRIPTION:関市が目指す「こども中心の地域づくり」を前に進める重要な一歩に\n事前申込は不要、入退出も自由！ \n若者の発想と大人の経験が出会うと、解決に向けた現実的な一歩が見えてきます。 \n誰でもお気軽にご参加ください。 \n関高等学校2年生が「まちの未来　こどもの未来」をテーマに探究活動\n探究活動の成果（課題と解決策）を10チームが発表します。 \nその後、発表テーマごとにが意見交流するグループワーク。 \n若者の提案をより実効性の高いものへ、さまざまな経験や知識を持つ地域の皆さんの声、皆さんの参加が高校生の力になります。 \nみんなで挑戦を応援しましょう！ \n当日の次第\n◾️活動発表（13:10～14：20）共通テーマ 「まちの未来 こどもの未来」 \n①子ども食堂（13:10～） \n関市内の寺院・圓通寺の活動に賛同した生徒が参加。寺で行われる子ども食堂や各種イベント、市内各地で行われるマルシェなどの企画、運営に携わっている。 \n②本町活性化プロジェクト（13:17～） \n本町夏祭りを盛り上げようとの地域からの呼びかけに応え、高校生が夏祭りに 「忍者屋敷」を企画。次年度の実践も計画中。全国高校生マイプロジェクトアワー ド岐阜地域サミット特別賞受賞。 \n③美濃加茂市蜂屋のまちづくり：ハニカム（13:24～） \nまちづくり協議会と連携した活動。高校生が主体的に参画し、自習スペースの確 保やリクレーションなどを行っている。全国高校生マイプロジェクトアワード岐 阜地域サミット特別賞受賞。 \n④野球部ＤＸ：関高校公式野球部（13:31～） \n文科省 DX ハイスクール指定事業の一環として、投球や打球を計測・分析するた めの機器を導入。練習の効率化や部員主体の部活動の在り方を模索している。 \n⑤地域の特産品活用促進：米粉（13:38～） \n関市で作られた米粉の消費拡大をめざす活動。家庭クラブのメンバーを中心に、 校内レシピコンテスト、レシピ集づくりなどを実施。提案したレシピが、今年度も 給食センターのメニューに採用される。 \n⑥地域の特産品活用促進：円空いも（13:45～） \n特産円空いもの消費拡大をめざし例年、マルシェを実施。今年はドーナツに加え、 パウンドケーキやチップスなどメニューを拡大し好評を得ている。 \n⑦地域の特産品活用促進：上之保ゆず（13:52～） \n特産上之保ゆずに関し、入浴剤や芳香剤など、食品以外の新しい活用法を模索し ているグループである。 \n⑧郷土史を生かしたまちづくり：地域研究部（13:59～） \n関市や隣接地域で、戦国時代や戦時中の飛行場跡などの調査を行っている。発表 会や現地セミナー、学びの成果の普及に努めている。全国高校生マイプロジェクト アワード岐阜地域サミット特別賞受賞。本年度全国高文連大会最優秀賞。 \n⑨中高生模擬国連会議（14:06～） \n地域の中高生がグルーバル課題を学び、模擬国連会議を開催する。そんな試みが 続けられ、隣接地域の高校にも広がりつつある。 \n⑩関市こども条例（14:13～） \n関市が制定を予定している「こども・若者条例」の企画に加わったグループ。制 定に向け、市内外でワークショップなどの発信を行った。現在は、啓発活動の在り方について検討中である。 \n◾️ワークショップ（14:30～15:10）10 グループ \n◾️グループワーク内容の共有発表（15:10～15:30） \n＼SNSでシェアしてください！／\n				Facebook で共有 (新しいウィンドウで開きます)\n				Facebook\n			\n				X で共有 (新しいウィンドウで開きます)\n				X
URL:https://sekicity.info/event/20260328_sekimirai/
LOCATION:わかくさ・プラザ\, 若草通２丁目１\, 関市\, 岐阜県\, 501-3802\, Japan
CATEGORIES:勉強会,地域交流
ATTACH;FMTTYPE=image/jpeg:https://sekicity.info/wp-content/uploads/2026/03/S__33488910.jpg
END:VEVENT
BEGIN:VEVENT
DTSTART;TZID=Asia/Tokyo:20260301T100000
DTEND;TZID=Asia/Tokyo:20260301T130000
DTSTAMP:20260421T204434
CREATED:20260216T231006Z
LAST-MODIFIED:20260216T231147Z
UID:10000219-1772359200-1772370000@sekicity.info
SUMMARY:SEKI WOMAN FESTA 2026（せきウーマンフェスタ）
DESCRIPTION:関市でいろいろな生き方、働き方、あり方を体現している皆さんと楽しい時間を過ごしませんか。 \nマーケット＠エントランスホール\n関市内で素敵な暮らしや働き方、あり方を体現しているマーケットが勢揃い！ \n令和7年度関市女性が働きやすい職場認定式\nどなたも気軽にご参加ください。\n13時30分〜13時50分＠多目的ホール \n野々村友紀子さんが関市にやってきます！\n＜すでに予約満席、受付終了しております＞ \n今回のトークイベント、ゲストはなんと、メディアでお馴染みの 放送作家・野々村友紀子さん！ \nテーマ「強く生きるためのヒント」 \n講演後に「お悩み相談コーナー」もあります。 \n【野々村友紀子さんプロフィール】\n1974年8月5日生まれの放送作家。大阪府出身。2丁拳銃・修士の妻。芸人として活動後、放送作家へ転身。現在は吉本総合芸能学院（NSC）東京校の講師、著書・脚本等の作家業に加え、メディア出演など多方面で活躍中。 \n \n \n＼SNSでシェアしてください！／\n				Facebook で共有 (新しいウィンドウで開きます)\n				Facebook\n			\n				X で共有 (新しいウィンドウで開きます)\n				X
URL:https://sekicity.info/event/seki-woman-festa-2026%ef%bc%88%e3%81%9b%e3%81%8d%e3%82%a6%e3%83%bc%e3%83%9e%e3%83%b3%e3%83%95%e3%82%a7%e3%82%b9%e3%82%bf%ef%bc%89/
LOCATION:わかくさ・プラザ\, 若草通２丁目１\, 関市\, 岐阜県\, 501-3802\, Japan
CATEGORIES:マルシェ
ATTACH;FMTTYPE=image/png:https://sekicity.info/wp-content/uploads/2026/02/sekiwf2026-1.png
END:VEVENT
BEGIN:VEVENT
DTSTART;TZID=Asia/Tokyo:20260215T133000
DTEND;TZID=Asia/Tokyo:20260215T153000
DTSTAMP:20260421T204434
CREATED:20260214T055632Z
LAST-MODIFIED:20260214T055825Z
UID:10000214-1771162200-1771169400@sekicity.info
SUMMARY:参加無料！知事と県民との対話会「安心と挑戦の岐阜県づくり」江崎禎英知事講演会
DESCRIPTION:岐阜県知事と、中濃の未来を共に考えましょう。 \n参加無料！　誰でも気軽にご参加ください。 \n江崎禎英知事講演会 \n（1）基調講演 「安心と挑戦の岐阜県づくり」13:30~15:00\n（2）知事と県民との対話会　15:00~15:30 \n江崎禎英（えさきよしひで）プロフィール\n令和7年2月6日、 岐阜県知事に就任。\n「安心」と「ワクワク」 に溢れ、 「人やモノが集まる「岐阜県」 を創るため、 10の目標を目指して、現在、待ったなしの喫緊の政策を展開中です。\n江崎県政は、 まだスタートしたばかりです。 就任後の1年間を振りかえるとともに、 現在そして明日の未来の岐阜県づくりについて語っていただきます。 \n主催 ：「中濃の未来を共に考える会」\n代表者：粟倉 元臣\n事務局長：浅野 澄生 (090-2779-0984)\n共催 「飛翔岐阜ちょう会」\n会長：長野 敬子 \n＼SNSでシェアしてください！／\n				Facebook で共有 (新しいウィンドウで開きます)\n				Facebook\n			\n				X で共有 (新しいウィンドウで開きます)\n				X
URL:https://sekicity.info/event/gifutaiwa202602/
LOCATION:わかくさ・プラザ\, 若草通２丁目１\, 関市\, 岐阜県\, 501-3802\, Japan
CATEGORIES:セミナー・講演会
ATTACH;FMTTYPE=image/jpeg:https://sekicity.info/wp-content/uploads/2026/02/S__30908437.jpg
END:VEVENT
BEGIN:VEVENT
DTSTART;TZID=Asia/Tokyo:20260204T133000
DTEND;TZID=Asia/Tokyo:20260204T160000
DTSTAMP:20260421T204434
CREATED:20260203T043629Z
LAST-MODIFIED:20260203T043811Z
UID:10000207-1770211800-1770220800@sekicity.info
SUMMARY:市民団体の力を活かす！学びとつながりの会
DESCRIPTION:いざ！というときに助け合える「まち」にしていくためには\n災害時の避難生活や支援活動について、NPOの実例も交えながらの講義と、日頃の活動を災害時に活かすためのポイントを意見交換します。 \n日時：2/4（水）13:30~16:00 \nゲスト：岡田英賢氏（圓通寺こども食堂寺子屋友心庵） \n被災地で活躍したNPOの活動紹介\n「ひとりぼっちを作らない子どもも大人も笑顔に」 \n場所：わかくさ・プラザ総合福祉会館3階会議室、Zoom配信あり\n定員：先着20名（オンライン90名）\n申込先：\nhttps://docs.google.com/forms/d/e/1FAIpQLSdkRslByws6eo7J1Hq2Sf6IgjAXFf2uDKtFZqG62M60UN7cBw/viewform \n主催：NPO法人ぎふNPOセンター\n共催：関市市民活動センター\n☎：0575-24-7772 058-275-9739\n✉：saigai@gifu-npocentar.org \n\n\n＼SNSでシェアしてください！／\n				Facebook で共有 (新しいウィンドウで開きます)\n				Facebook\n			\n				X で共有 (新しいウィンドウで開きます)\n				X
URL:https://sekicity.info/event/%e5%b8%82%e6%b0%91%e5%9b%a3%e4%bd%93%e3%81%ae%e5%8a%9b%e3%82%92%e6%b4%bb%e3%81%8b%e3%81%99%ef%bc%81%e5%ad%a6%e3%81%b3%e3%81%a8%e3%81%a4%e3%81%aa%e3%81%8c%e3%82%8a%e3%81%ae%e4%bc%9a/
LOCATION:わかくさ・プラザ\, 若草通２丁目１\, 関市\, 岐阜県\, 501-3802\, Japan
CATEGORIES:勉強会,地域交流
ATTACH;FMTTYPE=image/jpeg:https://sekicity.info/wp-content/uploads/2026/02/shimindantai20260204.jpg
END:VEVENT
BEGIN:VEVENT
DTSTART;TZID=Asia/Tokyo:20251124T190000
DTEND;TZID=Asia/Tokyo:20251124T203000
DTSTAMP:20260421T204434
CREATED:20251125T010021Z
LAST-MODIFIED:20251125T010220Z
UID:10000195-1764010800-1764016200@sekicity.info
SUMMARY:安桜・旭ヶ丘地域「地域ミライとーく」
DESCRIPTION:令和10年度からスタートする次期総合計画の策定に向けて、市長が「地域の夢」や「未来に残したいもの」「課題」などについて直接お話を伺います。 \nまた、現在実施中の第５次総合計画の成果報告も行います。 \n「こんなまちになったらいいな」「未来の子どものためにこれだけは残したい」など、皆さんの声で未来の関市をデザインしましょう。 \n \n皆さんの積極的なご参加をお待ちしております。 \n【日時】令和7年11月24日（月）　午後7時から\n【会場】わかくさ・プラザ学習情報館　多目的ホール \n \n＼SNSでシェアしてください！／\n				Facebook で共有 (新しいウィンドウで開きます)\n				Facebook\n			\n				X で共有 (新しいウィンドウで開きます)\n				X
URL:https://sekicity.info/event/asakura-asahi-mirai202511/
LOCATION:わかくさ・プラザ\, 若草通２丁目１\, 関市\, 岐阜県\, 501-3802\, Japan
ATTACH;FMTTYPE=image/jpeg:https://sekicity.info/wp-content/uploads/2025/11/588417361_18051405431656884_6816591613750669296_n.jpg
END:VEVENT
BEGIN:VEVENT
DTSTART;TZID=Asia/Tokyo:20251104T133000
DTEND;TZID=Asia/Tokyo:20251104T153000
DTSTAMP:20260421T204434
CREATED:20251006T100556Z
LAST-MODIFIED:20251006T100616Z
UID:10000114-1762263000-1762270200@sekicity.info
SUMMARY:女性の夢フォーラム2025　「整理収納講座」
DESCRIPTION:関市地域女性の会連合会より講座のお知らせです \n女性の夢フォーラム2025 \n講演会「整理収納講座」～心とくらしを整える～ \nどなたでも参加できます \n \n＼SNSでシェアしてください！／\n				Facebook で共有 (新しいウィンドウで開きます)\n				Facebook\n			\n				X で共有 (新しいウィンドウで開きます)\n				X
URL:https://sekicity.info/event/%e5%a5%b3%e6%80%a7%e3%81%ae%e5%a4%a2%e3%83%95%e3%82%a9%e3%83%bc%e3%83%a9%e3%83%a02025%e3%80%80%e3%80%8c%e6%95%b4%e7%90%86%e5%8f%8e%e7%b4%8d%e8%ac%9b%e5%ba%a7%e3%80%8d/
LOCATION:わかくさ・プラザ\, 若草通２丁目１\, 関市\, 岐阜県\, 501-3802\, Japan
CATEGORIES:セミナー・講演会
ATTACH;FMTTYPE=:
END:VEVENT
BEGIN:VEVENT
DTSTART;TZID=Asia/Tokyo:20251103T100000
DTEND;TZID=Asia/Tokyo:20251103T150000
DTSTAMP:20260421T204434
CREATED:20251029T033120Z
LAST-MODIFIED:20251029T033120Z
UID:10000124-1762164000-1762182000@sekicity.info
SUMMARY:環境フェアせき2025～地球にやさしいくらしの選択～
DESCRIPTION:環境に関する活動を行っている団体や企業、学校などが、体験や工作、展示を行う「環境フェアせき2025～地球にやさしいくらしの選択～」を開催します。 \n楽しみながら環境について考えよう。\n自然環境、リユースやリサイクル、エネルギー、地産地消などのブースのほか、「らんま先生のエコ実験パフォーマンスショー」など、体験や工作を通して楽しく環境に触れるイベントとなっています。 \n家族で一緒に楽しみながら環境について考え、未来に豊かな環境を引き継ぐために、できることからはじめてみませんか。 \nご家族そろってぜひご来場ください！ \n \n \n \nクイズ＆スタンプラリー　環境クイズに答えて、お楽しみ抽選に参加しよう！\n環境フェア会場内の6か所に設置された「環境クイズ」に答えて手作りスタンプを押すと、お楽しみ抽選に参加できます。お楽しみ抽選では、環境にやさしい景品が当たります。（全ての方に当たります） \n学校の環境活動取組展示\n【瀬尻小】　　　カワゲラウォッチング新聞\n【田原小】　　　環境を守るためにできること\n【金竜小】　　　金竜の環境\n【津保川中】　　津保川中学校の環境教育\n【関商工高校】　本町ネクストストリートチャレンジSeason2\n【関高校】　　　広げようコオロギ食\n【関有知高校】　関有知高校周辺の環境とホタルについて\n【武義高校】　　環境から防災を考える \nステージイベント\n場所：学習情報館　多目的ホール \n＜タイムスケジュール＞\n9時30分　 環境ポスターコンクール表彰式\n10時00分　松溪保育園　【鼓笛演奏　勇気100％ほか】\n10時30分　Dance Climax　【カッコかわいいダンス＆アクロバットパフォーマンス】\n11時　　 　CHEER＋　【キッズチアダンス】\n11時30分　STUDIO SQUARE　【ダンスショーケース☆】\n12時 　かわせみの杜　関山田・棚田の会　【活動発表】 \nリユース・リサイクルできるものを回収します\n環境フェアせきでは、イベント参加と同時にリユース・リサイクルできる物品を回収します。 \nリユース・リサイクルできる物品の詳細や、他のイベントやワークショップなど、出店の詳細は以下ページをご覧ください： \nhttps://www.city.seki.lg.jp/0000022445.html \n＼SNSでシェアしてください！／\n				Facebook で共有 (新しいウィンドウで開きます)\n				Facebook\n			\n				X で共有 (新しいウィンドウで開きます)\n				X
URL:https://sekicity.info/event/%e7%92%b0%e5%a2%83%e3%83%95%e3%82%a7%e3%82%a2%e3%81%9b%e3%81%8d2025%ef%bd%9e%e5%9c%b0%e7%90%83%e3%81%ab%e3%82%84%e3%81%95%e3%81%97%e3%81%84%e3%81%8f%e3%82%89%e3%81%97%e3%81%ae%e9%81%b8%e6%8a%9e/
LOCATION:わかくさ・プラザ\, 若草通２丁目１\, 関市\, 岐阜県\, 501-3802\, Japan
CATEGORIES:体験・ワークショップ,勉強会
ATTACH;FMTTYPE=image/jpeg:https://sekicity.info/wp-content/uploads/2025/10/kankyofiar2025chirashi.jpg
END:VEVENT
BEGIN:VEVENT
DTSTART;TZID=Asia/Tokyo:20251025T133000
DTEND;TZID=Asia/Tokyo:20251025T150000
DTSTAMP:20260421T204434
CREATED:20250903T234135Z
LAST-MODIFIED:20251001T042308Z
UID:10000104-1761399000-1761404400@sekicity.info
SUMMARY:救急法講習会　ファーストエイド（止血・傷の手当・骨折の固定）
DESCRIPTION:主催　「命をつなげる会　中濃」 \nケガや骨折などの応急処置法を、分かり易く学べます \n外出先での不慮のケガに対応できるようぜひご参加ください \n会場：わかくさ・プラザ　学習情報館２階　ギャラリー \nお申込み：０９０-７３１０-６０４３（早川） \n \n＼SNSでシェアしてください！／\n				Facebook で共有 (新しいウィンドウで開きます)\n				Facebook\n			\n				X で共有 (新しいウィンドウで開きます)\n				X
URL:https://sekicity.info/event/%e6%95%91%e6%80%a5%e6%b3%95%e8%ac%9b%e7%bf%92%e4%bc%9a%e3%80%80%e3%83%95%e3%82%a1%e3%83%bc%e3%82%b9%e3%83%88%e3%82%a8%e3%82%a4%e3%83%89%ef%bc%88%e6%ad%a2%e8%a1%80%e3%83%bb%e5%82%b7%e3%81%ae%e6%89%8b/
LOCATION:わかくさ・プラザ\, 若草通２丁目１\, 関市\, 岐阜県\, 501-3802\, Japan
CATEGORIES:勉強会
ATTACH;FMTTYPE=image/jpeg:https://sekicity.info/wp-content/uploads/2025/09/IMG_20250904_0003-scaled-e1756941293956.jpg
END:VEVENT
BEGIN:VEVENT
DTSTART;TZID=Asia/Tokyo:20250920T133000
DTEND;TZID=Asia/Tokyo:20250920T150000
DTSTAMP:20260421T204434
CREATED:20250903T231830Z
LAST-MODIFIED:20250903T233434Z
UID:10000103-1758375000-1758380400@sekicity.info
SUMMARY:救急法講習会　心肺蘇生とAED電気ショック
DESCRIPTION:主催　「命をつなげる会　中濃」 \n救急法や心肺蘇生など、分かり易く学べます \n今救える命の為にぜひ参加してください \n会場：わかくさ・プラザ　学習情報館２階　ギャラリー \nお申込み：０９０-７３１０-６０４３（早川） \n \n＼SNSでシェアしてください！／\n				Facebook で共有 (新しいウィンドウで開きます)\n				Facebook\n			\n				X で共有 (新しいウィンドウで開きます)\n				X
URL:https://sekicity.info/event/%e6%95%91%e6%80%a5%e6%b3%95%e8%ac%9b%e7%bf%92%e4%bc%9a%e3%80%80%e5%bf%83%e8%82%ba%e8%98%87%e7%94%9f%e3%81%a8aed%e9%9b%bb%e6%b0%97%e3%82%b7%e3%83%a7%e3%83%83%e3%82%af/
LOCATION:わかくさ・プラザ\, 若草通２丁目１\, 関市\, 岐阜県\, 501-3802\, Japan
CATEGORIES:体験・ワークショップ,勉強会
ATTACH;FMTTYPE=image/jpeg:https://sekicity.info/wp-content/uploads/2025/09/IMG_20250904_0003-scaled-e1756941293956.jpg
END:VEVENT
BEGIN:VEVENT
DTSTART;TZID=Asia/Tokyo:20250824T150000
DTEND;TZID=Asia/Tokyo:20250824T210000
DTSTAMP:20260421T204434
CREATED:20250804T083656Z
LAST-MODIFIED:20250804T083656Z
UID:10000096-1756047600-1756069200@sekicity.info
SUMMARY:学ぶ！遊ぶ！踊る！夏の想い出「関おどりん祭 2025」
DESCRIPTION:わかくさ・プラザで夏祭りを開催！\n毎年大人気のプラネタリウムや図書館できもだめしのほか、今年はサイエンスマジックショーも開催。 \n楽しく遊んで学べる夏の想い出に、ご家族そろってお出かけください。 \n★プラネタリウム\n10:00～／11:10～／13:30～／15:00～／16:30～　＜当日上映15分前から受付＞ \n★関のものづくりワークショップ＆マルシェ\n15:00～開催 \n★昭和の昔あそび\n15:00～開催 \n★サイエンスマジックショー　＜学習情報館1階　多目的ホール＞\n〇16:00～（開場　15:30）\n〇19:00～　（開場　18:30） \n★夜の図書館できもだめし\n18:30～開催　※人数制限有 \n★わかくさ盆踊り\n18:00～21:00　＜関盆おどり保存会＞ \n★屋台コーナーも多数ご用意！ \n★「Cafe & Shopソルフォーレ」\n当日は20時まで延長営業します！！\n（オーダーストップ19:30） \n※当日の天候状況等によっては開催の規模縮小や内容を変更する場合がございます。\n※スケジュールは当日の進行状況により前後する場合がございます。 \n＼SNSでシェアしてください！／\n				Facebook で共有 (新しいウィンドウで開きます)\n				Facebook\n			\n				X で共有 (新しいウィンドウで開きます)\n				X
URL:https://sekicity.info/event/sekiodorinsai202508/
LOCATION:わかくさ・プラザ\, 若草通２丁目１\, 関市\, 岐阜県\, 501-3802\, Japan
CATEGORIES:祭り・イベント
ATTACH;FMTTYPE=image/jpeg:https://sekicity.info/wp-content/uploads/2025/08/sekiodorinsai2025.jpg
END:VEVENT
BEGIN:VEVENT
DTSTART;TZID=Asia/Tokyo:20250719T130000
DTEND;TZID=Asia/Tokyo:20250719T150000
DTSTAMP:20260421T204434
CREATED:20250605T233343Z
LAST-MODIFIED:20250605T233503Z
UID:10000069-1752930000-1752937200@sekicity.info
SUMMARY:関市国際交流協会 創立30周年　記念式典・講演会
DESCRIPTION:関市国際交流協会、創立30周年！　記念式典・講演会を開催\n2025年7月19日（土）13:00～15:00\nわかくさプラザ 学習情報館 多目的ホール \n入場無料 Admission free\nどなたも入場いただけます。ただし事前の申し込みが必要です。 \n【記念式典】13:00～14:00（受付12:30～）\n【講演会】14:00～15:00（受付13:45～）\n※どちらかのみのご参加も可能です。 \n講演会「ダイアンから見た日本 ～笑いで世界をひとつに～」\n講師：ダイアン吉日（パフォーマンス講演家） \nイギリス出身の落語家。ほんの数か月の滞在のつもりが、日本文化に魅せられ、\n日本語を学び、落語、着物、折り紙、そして書道など、日本文化を通して多くの人々と交流。\n日本の明るさを世界に伝えるユーモアを交えた公演は、英語落語の第一人者として各方面で活躍。 \n・2021年学校英語教科書「NEW HORIZON 1」登場\n・2020年小学校英語教科書「NEW HORIZON Elementary 5」掲載\n・テレビ東京「世界！ニッポン行きたい人応援団」出演など \n記念式典ご参加プレゼント\n世界のお菓子（なくなり次第終了） \n申し込み方法\n申込フォームまたはチラシのQRコードからアクセスしてください \nhttps://logoform.jp/form/ZmuY/999097 \n【申し込み締切】2025年7月16日（水）\n【定員】先着300人（事前申込制） \n主催：関市国際交流協会\n後援：関市・関市教育委員会 \n関市国際交流協会とは\n地域で生活を営む人々が、教育・文化・学術・産業・経済の分野において、国際交流及び多文化共生を推進し、世界の人々と交流を行う中で、相互理解と親善を深め、豊かな国際感覚を身に付け、希望あふれるまちづくりに貢献することを目的として活動しています。 \n＼SNSでシェアしてください！／\n				Facebook で共有 (新しいウィンドウで開きます)\n				Facebook\n			\n				X で共有 (新しいウィンドウで開きます)\n				X
URL:https://sekicity.info/event/seki-iea30/
LOCATION:わかくさ・プラザ\, 若草通２丁目１\, 関市\, 岐阜県\, 501-3802\, Japan
CATEGORIES:セミナー・講演会
ATTACH;FMTTYPE=image/jpeg:https://sekicity.info/wp-content/uploads/2025/06/kokusaisikiten202506.jpg
END:VEVENT
BEGIN:VEVENT
DTSTART;TZID=Asia/Tokyo:20250712T140000
DTEND;TZID=Asia/Tokyo:20250712T153000
DTSTAMP:20260421T204434
CREATED:20250614T221835Z
LAST-MODIFIED:20250614T222443Z
UID:10000076-1752328800-1752334200@sekicity.info
SUMMARY:参加無料！こどもの権利を考える講演会（講師：木村泰子先生）〜こどもまんなか関市を目指して〜
DESCRIPTION:「こどもまんなか社会って何？」「こどもの権利ができると、どうなる？」\n関市も2025年3月に「関市こどもまんなか計画」を策定し、次に「こどもの権利条例」に向けて動き出しています。 \nですが、そもそも私たちは「こどもまんなか社会」「こどもの権利」について理解しているのでしょうか？ \n映画「みんなの学校」の舞台、大空小学校の初代校長である木村泰子先生を講師に迎え、「こどもまんなか社会」や「こどもの権利」とはどういうものであり、こども・若者のために大人はどう関わるべきかなどを、市民や教員など広く大人を対象に講演いただきます。 \n大空小学校では「すべての子どもの学習権を保障する」という理念のもと、教職員や地域の人たちとともに障害の有無にかかわらず、すべての子どもがいつも一緒に学び合っている。2015年に大空小学校の1年間を追ったドキュメンタリー映画「みんなの学校」が公開され、大きな反響を呼んだ、この映画は文部科学省の特別選定作品にも選ばれ、現在も全国各地の教育現場などで自主上映されている。 \n参加無料、どなたの参加も歓迎\n関市の教職員、子育て中の保護者、支援に関わる方、学生やこども当事者の皆さんなど、どなたでも歓迎です。 \nお申込フォームより事前予約をお願いいたします。 \nhttps://logoform.jp/form/ZmuY/1066779 \n＼SNSでシェアしてください！／\n				Facebook で共有 (新しいウィンドウで開きます)\n				Facebook\n			\n				X で共有 (新しいウィンドウで開きます)\n				X
URL:https://sekicity.info/event/kodomonokenri20250712/
LOCATION:わかくさ・プラザ\, 若草通２丁目１\, 関市\, 岐阜県\, 501-3802\, Japan
CATEGORIES:勉強会
ATTACH;FMTTYPE=image/jpeg:https://sekicity.info/wp-content/uploads/2025/06/S__14295074.jpg
END:VEVENT
BEGIN:VEVENT
DTSTART;TZID=Asia/Tokyo:20250509T100000
DTEND;TZID=Asia/Tokyo:20250510T170000
DTSTAMP:20260421T204434
CREATED:20250406T062354Z
LAST-MODIFIED:20250430T073730Z
UID:10000024-1746784800-1746896400@sekicity.info
SUMMARY:ビジネスプラス展in SEKI 2025
DESCRIPTION:5月9日（金曜日）、10日（土曜日）の2日間、ものづくりからサービスまで、さまざまな分野の出展者が関に集結し、自慢の技術や製品などをPRします。 \n今回で12回目を迎えました！ \n \nわかくさ・プラザ　アテナ工業アリーナ（総合体育館)　メインアリーナを会場に、出展企業81社が集結し、実施します。 \n学生さんもお子さまも、どなたでも大歓迎の一般開放型の企業展で、入場は無料です。来場者には会場内を巡っていただくことで、ノベルティグッズなど、プレゼントを用意しています。 \n地元の“すてき”を見つけにきてください。 \n▶︎パンフレットPDFはこちら \n展示会場配置図・出展企業の紹介\n      \n＼SNSでシェアしてください！／\n				Facebook で共有 (新しいウィンドウで開きます)\n				Facebook\n			\n				X で共有 (新しいウィンドウで開きます)\n				X
URL:https://sekicity.info/event/business-plus-seki2025/
LOCATION:わかくさ・プラザ\, 若草通２丁目１\, 関市\, 岐阜県\, 501-3802\, Japan
CATEGORIES:体験・ワークショップ,地域交流
ATTACH;FMTTYPE=image/jpeg:https://sekicity.info/wp-content/uploads/2025/04/panfuretto_page-0001.jpg
END:VEVENT
BEGIN:VEVENT
DTSTART;TZID=Asia/Tokyo:20250505T100000
DTEND;TZID=Asia/Tokyo:20250505T160000
DTSTAMP:20260421T204434
CREATED:20250502T062455Z
LAST-MODIFIED:20250502T062956Z
UID:10000057-1746439200-1746460800@sekicity.info
SUMMARY:おとなもこどもも遊びつくそう！ゴールデンウィークスペシャル2025
DESCRIPTION:2025/5/5（祝・月）は関市でゴールデンウィークスペシャル2025！ \n今回は「おとなもこどもも遊びつくそう！」をテーマに、関のものづくりを体験出来るエリアをはじめ、親子で体験できるプログラミング教室、またしゃぼん玉ショーや恐竜さんぽなど、おとなもこどもも楽しめるイベントが盛りだくさん！また『昭和』をキーワードにした料理教室や昔あそびも開催します。こどもからおとなまで親子3世代が楽しめる思い出深い一日をお楽しみください。 \n場所：わかくさ・プラザ 学習情報館・総合福祉会館・アテナ工業アリーナ \nショー、料理教室、ものづくり、イベントたくさん！\n \n \n【関のものづくり体験】関市で活躍する団体が開催するものづくり体験エリア。\n【GW屋内スペシャルマルシェ】可愛い雑貨の販売やワークショップブースが登場。\n【バブリン先生のしゃぼん玉ショー】しゃぼん玉エンターティナー、バブリン先生と一緒に遊ぼう！\n【GW親子料理教室】昭和の喫茶文化をテーマにミックスジュースやチョコバナナクレープを作ろう！（満席にて予約受付終了。）\n【GWは恐竜と遊ぼう！】恐竜さんぽや恐竜VSキングコングなど、恐竜イベントが盛りだくさん！\n【なつかしの昭和～昔あそび】昭和に流行した昔あそびコーナー、親子3世代で楽しく遊ぼう！ \nお問合せ：0575-23-7779＜イベント担当＞ \n  \n＼SNSでシェアしてください！／\n				Facebook で共有 (新しいウィンドウで開きます)\n				Facebook\n			\n				X で共有 (新しいウィンドウで開きます)\n				X
URL:https://sekicity.info/event/20250505goldenweekspecial/
LOCATION:わかくさ・プラザ\, 若草通２丁目１\, 関市\, 岐阜県\, 501-3802\, Japan
CATEGORIES:親子向け
ATTACH;FMTTYPE=image/jpeg:https://sekicity.info/wp-content/uploads/2025/05/wakakusa20250505.jpg
END:VEVENT
BEGIN:VEVENT
DTSTART;TZID=Asia/Tokyo:20250427T130000
DTEND;TZID=Asia/Tokyo:20250427T160000
DTSTAMP:20260421T204434
CREATED:20250411T094757Z
LAST-MODIFIED:20250411T094757Z
UID:10000043-1745758800-1745769600@sekicity.info
SUMMARY:ダンボールコンポスト講習会
DESCRIPTION:次のとおり「ダンボールコンポスト講習会」を開催します。 \nダンボールを利用した生ごみ処理容器で、微生物の力を借りて生ごみの減量化を図りませんか。 \n\n日時\n\n令和7年4月27日（日）　午後1時～、午後2時半～ \n\n場所\n\nわかくさ・プラザ　学習情報館2階　創作実習室 \n\n対象\n\n市内在住の方 \n\n定員\n\n各回10組（申し込み順） \n\n受講料\n\n200円（ダンボールコンポスト1セット代。購入は2セットまで。必要でない方は無料） \n\n持ち物\n\n不要なTシャツ（ある方のみ、何枚でも可）\n※男性Ⅿサイズ、女性Ⅼサイズ以上\n※ダンボールコンポストの虫よけキャップの材料として今後使用させていただきます \n\n申込方法\n\n下記の申込フォームまたは電話にてお申し込みください。\n申込フォーム（別ウインドウで開く）\n電話　0575-23-7702 \n関市役所市民環境部環境課 \n\n＼SNSでシェアしてください！／\n				Facebook で共有 (新しいウィンドウで開きます)\n				Facebook\n			\n				X で共有 (新しいウィンドウで開きます)\n				X
URL:https://sekicity.info/event/compost20250426/
LOCATION:わかくさ・プラザ\, 若草通２丁目１\, 関市\, 岐阜県\, 501-3802\, Japan
CATEGORIES:体験・ワークショップ
ATTACH;FMTTYPE=image/jpeg:https://sekicity.info/wp-content/uploads/2025/04/danbochirashi_page-0001.jpg
END:VEVENT
BEGIN:VEVENT
DTSTART;TZID=Asia/Tokyo:20250302T093000
DTEND;TZID=Asia/Tokyo:20250302T120500
DTSTAMP:20260421T204434
CREATED:20250228T064055Z
LAST-MODIFIED:20250430T073917Z
UID:10000019-1740907800-1740917100@sekicity.info
SUMMARY:令和6年度市民活動助成金活動報告会
DESCRIPTION:市民活動助成金制度は、住民主体の地域づくりを支援するために、市民活動団体が実施する地域課題の解決及び地域の活性化を図る事業に対して支援を行う制度です。 \n今年度の助成対象になった15団体が、さまざまな分野でまちづくり活動に取り組んだ様子を市民の皆さんに知っていただくために、公開で報告会を開催します。 \n開催日時　：令和7年3月2日（日）　午前9時30分から午前12時05分まで \n開催場所　：せきてらす　多目的ホール　じゆうなひろま \n報告団体　：15団体 \nときめき助成金（8団体）\n「刀舞連」、「孫六座」、「津保川台・虹ケ丘シニアクラブ」、「さくらウインドウオーケストラ」、「特定非営利活動法人せき・まちづくりNPOぶうめらん」、「道-TAO-」、「在日ベトナム学生青年協会岐阜支部」 \nきらめき助成金（7団体）\n「武芸川音楽祭実行委員会」、「高齢者福祉美容療法会」、「むつびと」、「NPO法人自然、生活共生会」、「医療的ケアの必要な重症心身障がい児支援を考える会」、「ご当地美食音マーケット実行委員会」、「関市まちづくり協議会」 \n【お問合せ先】 関市役所　市民協働課\n電話：0575-23-6751\nメール：shiminkyodo@city.seki.lg.jp \n＼SNSでシェアしてください！／\n				Facebook で共有 (新しいウィンドウで開きます)\n				Facebook\n			\n				X で共有 (新しいウィンドウで開きます)\n				X
URL:https://sekicity.info/event/20250228sekiinfo/
LOCATION:わかくさ・プラザ\, 若草通２丁目１\, 関市\, 岐阜県\, 501-3802\, Japan
CATEGORIES:セミナー・講演会
ATTACH;FMTTYPE=image/png:https://sekicity.info/wp-content/uploads/2025/02/r6shiminjosei.png
END:VEVENT
END:VCALENDAR