BEGIN:VCALENDAR
VERSION:2.0
PRODID:-//せき情報局 - ECPv6.15.16//NONSGML v1.0//EN
CALSCALE:GREGORIAN
METHOD:PUBLISH
X-WR-CALNAME:せき情報局
X-ORIGINAL-URL:https://sekicity.info
X-WR-CALDESC:せき情報局 のイベント
REFRESH-INTERVAL;VALUE=DURATION:PT1H
X-Robots-Tag:noindex
X-PUBLISHED-TTL:PT1H
BEGIN:VTIMEZONE
TZID:Asia/Tokyo
BEGIN:STANDARD
TZOFFSETFROM:+0900
TZOFFSETTO:+0900
TZNAME:JST
DTSTART:20290101T000000
END:STANDARD
END:VTIMEZONE
BEGIN:VEVENT
DTSTART;TZID=Asia/Tokyo:20300324T100000
DTEND;TZID=Asia/Tokyo:20300324T150000
DTSTAMP:20260421T050127
CREATED:20250926T114408Z
LAST-MODIFIED:20251101T094014Z
UID:10000180-1900576800-1900594800@sekicity.info
SUMMARY:善光寺ご縁市
DESCRIPTION:関善光寺の境内で開催する、のんびり楽しむミニマルシェです。 \n毎月第4日曜日　10:00～15:00　雨天中止 \n \n 
URL:https://sekicity.info/event/%e5%96%84%e5%85%89%e5%af%ba%e3%81%94%e7%b8%81%e5%b8%82/2030-03-24/
LOCATION:関善光寺（宗休寺）\, 若草通２丁目１\, 関市\, 岐阜県\, Japan
CATEGORIES:マルシェ
ATTACH;FMTTYPE=image/jpeg:https://sekicity.info/wp-content/uploads/2025/09/善光寺-御縁市.jpg
END:VEVENT
BEGIN:VEVENT
DTSTART;TZID=Asia/Tokyo:20300428T100000
DTEND;TZID=Asia/Tokyo:20300428T150000
DTSTAMP:20260421T050127
CREATED:20250926T114408Z
LAST-MODIFIED:20251101T094014Z
UID:10000181-1903600800-1903618800@sekicity.info
SUMMARY:善光寺ご縁市
DESCRIPTION:関善光寺の境内で開催する、のんびり楽しむミニマルシェです。 \n毎月第4日曜日　10:00～15:00　雨天中止 \n \n 
URL:https://sekicity.info/event/%e5%96%84%e5%85%89%e5%af%ba%e3%81%94%e7%b8%81%e5%b8%82/2030-04-28/
LOCATION:関善光寺（宗休寺）\, 若草通２丁目１\, 関市\, 岐阜県\, Japan
CATEGORIES:マルシェ
ATTACH;FMTTYPE=image/jpeg:https://sekicity.info/wp-content/uploads/2025/09/善光寺-御縁市.jpg
END:VEVENT
BEGIN:VEVENT
DTSTART;TZID=Asia/Tokyo:20300526T100000
DTEND;TZID=Asia/Tokyo:20300526T150000
DTSTAMP:20260421T050127
CREATED:20250926T114408Z
LAST-MODIFIED:20251101T094014Z
UID:10000182-1906020000-1906038000@sekicity.info
SUMMARY:善光寺ご縁市
DESCRIPTION:関善光寺の境内で開催する、のんびり楽しむミニマルシェです。 \n毎月第4日曜日　10:00～15:00　雨天中止 \n \n 
URL:https://sekicity.info/event/%e5%96%84%e5%85%89%e5%af%ba%e3%81%94%e7%b8%81%e5%b8%82/2030-05-26/
LOCATION:関善光寺（宗休寺）\, 若草通２丁目１\, 関市\, 岐阜県\, Japan
CATEGORIES:マルシェ
ATTACH;FMTTYPE=image/jpeg:https://sekicity.info/wp-content/uploads/2025/09/善光寺-御縁市.jpg
END:VEVENT
BEGIN:VEVENT
DTSTART;TZID=Asia/Tokyo:20300623T100000
DTEND;TZID=Asia/Tokyo:20300623T150000
DTSTAMP:20260421T050127
CREATED:20250926T114408Z
LAST-MODIFIED:20251101T094014Z
UID:10000183-1908439200-1908457200@sekicity.info
SUMMARY:善光寺ご縁市
DESCRIPTION:関善光寺の境内で開催する、のんびり楽しむミニマルシェです。 \n毎月第4日曜日　10:00～15:00　雨天中止 \n \n 
URL:https://sekicity.info/event/%e5%96%84%e5%85%89%e5%af%ba%e3%81%94%e7%b8%81%e5%b8%82/2030-06-23/
LOCATION:関善光寺（宗休寺）\, 若草通２丁目１\, 関市\, 岐阜県\, Japan
CATEGORIES:マルシェ
ATTACH;FMTTYPE=image/jpeg:https://sekicity.info/wp-content/uploads/2025/09/善光寺-御縁市.jpg
END:VEVENT
BEGIN:VEVENT
DTSTART;TZID=Asia/Tokyo:20300728T100000
DTEND;TZID=Asia/Tokyo:20300728T150000
DTSTAMP:20260421T050127
CREATED:20250926T114408Z
LAST-MODIFIED:20251101T094014Z
UID:10000184-1911463200-1911481200@sekicity.info
SUMMARY:善光寺ご縁市
DESCRIPTION:関善光寺の境内で開催する、のんびり楽しむミニマルシェです。 \n毎月第4日曜日　10:00～15:00　雨天中止 \n \n 
URL:https://sekicity.info/event/%e5%96%84%e5%85%89%e5%af%ba%e3%81%94%e7%b8%81%e5%b8%82/2030-07-28/
LOCATION:関善光寺（宗休寺）\, 若草通２丁目１\, 関市\, 岐阜県\, Japan
CATEGORIES:マルシェ
ATTACH;FMTTYPE=image/jpeg:https://sekicity.info/wp-content/uploads/2025/09/善光寺-御縁市.jpg
END:VEVENT
BEGIN:VEVENT
DTSTART;TZID=Asia/Tokyo:20300825T100000
DTEND;TZID=Asia/Tokyo:20300825T150000
DTSTAMP:20260421T050127
CREATED:20250926T114408Z
LAST-MODIFIED:20251101T094014Z
UID:10000185-1913882400-1913900400@sekicity.info
SUMMARY:善光寺ご縁市
DESCRIPTION:関善光寺の境内で開催する、のんびり楽しむミニマルシェです。 \n毎月第4日曜日　10:00～15:00　雨天中止 \n \n 
URL:https://sekicity.info/event/%e5%96%84%e5%85%89%e5%af%ba%e3%81%94%e7%b8%81%e5%b8%82/2030-08-25/
LOCATION:関善光寺（宗休寺）\, 若草通２丁目１\, 関市\, 岐阜県\, Japan
CATEGORIES:マルシェ
ATTACH;FMTTYPE=image/jpeg:https://sekicity.info/wp-content/uploads/2025/09/善光寺-御縁市.jpg
END:VEVENT
BEGIN:VEVENT
DTSTART;TZID=Asia/Tokyo:20300922T100000
DTEND;TZID=Asia/Tokyo:20300922T150000
DTSTAMP:20260421T050127
CREATED:20250926T114408Z
LAST-MODIFIED:20251101T094014Z
UID:10000186-1916301600-1916319600@sekicity.info
SUMMARY:善光寺ご縁市
DESCRIPTION:関善光寺の境内で開催する、のんびり楽しむミニマルシェです。 \n毎月第4日曜日　10:00～15:00　雨天中止 \n \n 
URL:https://sekicity.info/event/%e5%96%84%e5%85%89%e5%af%ba%e3%81%94%e7%b8%81%e5%b8%82/2030-09-22/
LOCATION:関善光寺（宗休寺）\, 若草通２丁目１\, 関市\, 岐阜県\, Japan
CATEGORIES:マルシェ
ATTACH;FMTTYPE=image/jpeg:https://sekicity.info/wp-content/uploads/2025/09/善光寺-御縁市.jpg
END:VEVENT
BEGIN:VEVENT
DTSTART;TZID=Asia/Tokyo:20301027T100000
DTEND;TZID=Asia/Tokyo:20301027T150000
DTSTAMP:20260421T050127
CREATED:20250926T114408Z
LAST-MODIFIED:20251101T094014Z
UID:10000187-1919325600-1919343600@sekicity.info
SUMMARY:善光寺ご縁市
DESCRIPTION:関善光寺の境内で開催する、のんびり楽しむミニマルシェです。 \n毎月第4日曜日　10:00～15:00　雨天中止 \n \n 
URL:https://sekicity.info/event/%e5%96%84%e5%85%89%e5%af%ba%e3%81%94%e7%b8%81%e5%b8%82/2030-10-27/
LOCATION:関善光寺（宗休寺）\, 若草通２丁目１\, 関市\, 岐阜県\, Japan
CATEGORIES:マルシェ
ATTACH;FMTTYPE=image/jpeg:https://sekicity.info/wp-content/uploads/2025/09/善光寺-御縁市.jpg
END:VEVENT
END:VCALENDAR