BEGIN:VCALENDAR
VERSION:2.0
PRODID:-//せき情報局 - ECPv6.15.16//NONSGML v1.0//EN
CALSCALE:GREGORIAN
METHOD:PUBLISH
X-ORIGINAL-URL:https://sekicity.info
X-WR-CALDESC:せき情報局 のイベント
REFRESH-INTERVAL;VALUE=DURATION:PT1H
X-Robots-Tag:noindex
X-PUBLISHED-TTL:PT1H
BEGIN:VTIMEZONE
TZID:Asia/Tokyo
BEGIN:STANDARD
TZOFFSETFROM:+0900
TZOFFSETTO:+0900
TZNAME:JST
DTSTART:20240101T000000
END:STANDARD
END:VTIMEZONE
BEGIN:VEVENT
DTSTART;TZID=Asia/Tokyo:20260418T120000
DTEND;TZID=Asia/Tokyo:20260418T200000
DTSTAMP:20260420T221332
CREATED:20260413T233222Z
LAST-MODIFIED:20260413T233956Z
UID:10000239-1776513600-1776542400@sekicity.info
SUMMARY:関どぶろく横丁
DESCRIPTION:関市・岐阜のどぶろくはもちろん、令和7年度 全国どぶろく研究大会で優勝したどぶろく（最優秀賞：愛媛／優秀賞：京都・富山・岐阜）が勢揃い。 \n関市と美濃市のクラフトビールも楽しめます。 \n小瀬鵜飼写真展も同時開催！ \n4/18（土）12:00〜20:00\n関市本町7丁目広場 \n出店事業者\n・鵜の家 足立 (関市)\n・三河屋 (郡上市大和町)\n・母袋工房 (郡上市大和町)\n・ペンション四季彩 (郡上市明宝)\n・美濃関麦酒プロジェクト (関市)\n・ブレードファクトリーブリューイング (関市)\n・リバーポートブリュワリー (美濃市)\n・蔵元 やまだ (加茂郡八百津町)\n・平和錦酒造 (加茂郡川辺町) \n主催：関どぶろくの会 \n当日は「関まつり」あんどんみこしをお忘れなく！\n \n関まつり2026 \n \nせきてらすでは「さほひめの宴」\n \n心も体も癒される 音楽・美容グルメのおまつり「さほひめの宴」。 \nどぶろくに祭りにマルシェ、関市の1日を楽しんでください！ \nさほひめの宴
URL:https://sekicity.info/event/sekidoburoku2026/
LOCATION:関市本町通商店街\, 本町\, 関市\, 岐阜県\, Japan
CATEGORIES:マルシェ,祭り・イベント
ATTACH;FMTTYPE=image/jpeg:https://sekicity.info/wp-content/uploads/2026/04/sekimatsuri-doburoku.jpg
END:VEVENT
BEGIN:VEVENT
DTSTART;TZID=Asia/Tokyo:20260418T100000
DTEND;TZID=Asia/Tokyo:20260418T150000
DTSTAMP:20260420T221332
CREATED:20260413T233729Z
LAST-MODIFIED:20260413T234251Z
UID:10000240-1776506400-1776524400@sekicity.info
SUMMARY:さほひめの宴
DESCRIPTION:心も体も癒される 音楽・美容グルメのおまつり「さほひめの宴」。 \n出店\n・Coto 【ハンドメイドアクセサリー販売】\n・耳ほぐし&耳つぼジュエリー\n・vis ta vie 【マヤ暦、 星よみ、 星のタロット占い】\n・R’s MODE 【ハンドメイドアクセサリー販売】\n・baby perl 【真珠のアクセサリー販売】\n・Ueポンポンマム【手作りパン販売】\n・Peri 【カヌレ 焼き菓子販売】\n・「いやし占い処鮎 【手相、 カード占い】\n・SEKAI NO HORIBE 【メダカすくい】\n・esthetique Alve & Lucia (POLA) 【ヘッドマッサージ】 \nライブ出演\n・結生沙衣\n・長谷川まい\n・FleuR\n・Miya\n・かとうりさ\n・まぁの\n・うしおゆりな\n・ground DEED\n・Sparky Shadow (\n・乙姫寿藍\n・心やす丸 \n唐揚げ・ポテト・炒飯・クレープなどグルメもあるよ!\n・しょうりゅう\n・キリンタス 他 \n自衛隊もやってくるよ! \n4/18（土）10:00〜15:00\nせきてらす (岐阜県関市) \n主催：ご当地美食音マーケット実行委員会 \n当日は「関まつり」あんどんみこしをお忘れなく！\n \n関まつり2026 \n \n関市どぶろく横丁も同日開催！\n \n関どぶろく横丁
URL:https://sekicity.info/event/sahohime2026/
LOCATION:せきてらす\, 平和通４丁目12番地1\, 関市\, 岐阜県\, 501-3874\, Japan
CATEGORIES:マルシェ
ATTACH;FMTTYPE=image/jpeg:https://sekicity.info/wp-content/uploads/2026/04/sekimatsuri-sahohime.jpg
END:VEVENT
BEGIN:VEVENT
DTSTART;TZID=Asia/Tokyo:20260404T170000
DTEND;TZID=Asia/Tokyo:20260404T200000
DTSTAMP:20260420T221332
CREATED:20260324T153506Z
LAST-MODIFIED:20260324T213928Z
UID:10000232-1775322000-1775332800@sekicity.info
SUMMARY:あさひ夢のまち「夜桜まつり」
DESCRIPTION:旭ヶ丘地区の地域委員会「あさひ夢のまち協議会」による夜桜イベント。周辺の方、ぜひお楽しみください。 \n吉田川の桜並木ライトアップと美味しい料理を\n今和8年4月4日（日）17:00〜20:00\n場所：旭ヶ丘小学校　体育館前駐車場 \n※駐車場はありません。\n※雨天決行 \n吉田川の桜並木がやさしい光に包まれる季節がやってきます。\n幻想的な雰囲気の中、美しい桜をゆっくりと楽しんでみませんか？\n当日はたくさんのキッチンカーも並び、美味しい料理やスイーツが味わえます。\n春のひとときを、ぜひご一緒に。 \n出店一覧\n・10CAfE（生ビール他ドリンク販売）\n・だるまラーメン（ラーメン各種）\n・楽笑（唐揚げ他）\n・平成街道（唐揚げ・ポテト他）\n・デイジー（クレープ・ドリンク）\n・タレイアカレー（カレー）\n・Ohisama（手作りパン各種）\n・cafe fortuna（りんご飴）\n・美濃関麦酒（クラフトビール他）\n・me（ガチャガチャ他） \n主催：あさひ夢のまち今日議会\n協賛：桜鯉育会
URL:https://sekicity.info/event/asahi-yozakura2026/
LOCATION:岐阜県
CATEGORIES:マルシェ,地域交流,親子向け
ATTACH;FMTTYPE=image/jpeg:https://sekicity.info/wp-content/uploads/2026/03/IMG_0955-scaled.jpg
END:VEVENT
BEGIN:VEVENT
DTSTART;TZID=Asia/Tokyo:20260329T100000
DTEND;TZID=Asia/Tokyo:20260329T140000
DTSTAMP:20260420T221332
CREATED:20260328T014731Z
LAST-MODIFIED:20260328T014731Z
UID:10000234-1774778400-1774792800@sekicity.info
SUMMARY:子ども食堂マルシェ（セキビズチャレンジャーズマルシェ）
DESCRIPTION:関市内の7団体の子ども食堂が集結\n射的やおにぎり・フライドポテトやおにぎりなど子どもが楽しめる1日限定マルシェ！\nプロの書道家である汐風さんによる書道パフォーマンス（11:30～12:00）も。 \nぜひ遊びに来てください！ \n出店者一覧\n・寺子屋いちょう庵＆友心庵\n射的・ぜんざい・たこ焼き・チュロス・ピザ・推し色ソーダ \n・せきまちなか子ども食堂\nフライドポテト・チキンナゲット \n・寺子屋河辺\nおにぎり・豚汁 \n・ウェルカムこども食堂\n台湾焼きそば \n・とみおかニコニコ食堂＆おばあちゃんち\nコーヒー・紅茶・カプチーノ・ジュース \n・esthetique Alve\nPOLAハンドマッサージ \n・imacoco.fam\nコラージュセラピー
URL:https://sekicity.info/event/kodomosyokudo-marche202603/
LOCATION:本町チャレンジBASE\, 本町６丁目４−１\, 関市\, 岐阜県\, 501-3886\, Japan
CATEGORIES:マルシェ
ATTACH;FMTTYPE=image/jpeg:https://sekicity.info/wp-content/uploads/2026/03/kodomosyokudo-marche1.jpg
END:VEVENT
BEGIN:VEVENT
DTSTART;TZID=Asia/Tokyo:20260322T100000
DTEND;TZID=Asia/Tokyo:20260322T150000
DTSTAMP:20260420T221332
CREATED:20260219T045955Z
LAST-MODIFIED:20260219T045955Z
UID:10000226-1774173600-1774191600@sekicity.info
SUMMARY:善光寺ご縁市
DESCRIPTION:関善光寺の境内で開催する、のんびり楽しむミニマルシェです。 毎月第4日曜日　10:00～15:00　雨天中止
URL:https://sekicity.info/event/%e5%96%84%e5%85%89%e5%af%ba%e3%81%94%e7%b8%81%e5%b8%82-2/
LOCATION:関善光寺（宗休寺）\, 若草通２丁目１\, 関市\, 岐阜県\, Japan
CATEGORIES:マルシェ
ATTACH;FMTTYPE=image/jpeg:https://sekicity.info/wp-content/uploads/2025/09/善光寺-御縁市.jpg
END:VEVENT
BEGIN:VEVENT
DTSTART;TZID=Asia/Tokyo:20260322T100000
DTEND;TZID=Asia/Tokyo:20260322T150000
DTSTAMP:20260420T221332
CREATED:20250926T114408Z
LAST-MODIFIED:20251101T094014Z
UID:10000132-1774173600-1774191600@sekicity.info
SUMMARY:善光寺ご縁市
DESCRIPTION:関善光寺の境内で開催する、のんびり楽しむミニマルシェです。 \n毎月第4日曜日　10:00～15:00　雨天中止 \n \n 
URL:https://sekicity.info/event/%e5%96%84%e5%85%89%e5%af%ba%e3%81%94%e7%b8%81%e5%b8%82/2026-03-22/
LOCATION:関善光寺（宗休寺）\, 若草通２丁目１\, 関市\, 岐阜県\, Japan
CATEGORIES:マルシェ
ATTACH;FMTTYPE=image/jpeg:https://sekicity.info/wp-content/uploads/2025/09/善光寺-御縁市.jpg
END:VEVENT
BEGIN:VEVENT
DTSTART;TZID=Asia/Tokyo:20260301T100000
DTEND;TZID=Asia/Tokyo:20260301T130000
DTSTAMP:20260420T221332
CREATED:20260216T231006Z
LAST-MODIFIED:20260216T231147Z
UID:10000219-1772359200-1772370000@sekicity.info
SUMMARY:SEKI WOMAN FESTA 2026（せきウーマンフェスタ）
DESCRIPTION:関市でいろいろな生き方、働き方、あり方を体現している皆さんと楽しい時間を過ごしませんか。 \nマーケット＠エントランスホール\n関市内で素敵な暮らしや働き方、あり方を体現しているマーケットが勢揃い！ \n令和7年度関市女性が働きやすい職場認定式\nどなたも気軽にご参加ください。\n13時30分〜13時50分＠多目的ホール \n野々村友紀子さんが関市にやってきます！\n＜すでに予約満席、受付終了しております＞ \n今回のトークイベント、ゲストはなんと、メディアでお馴染みの 放送作家・野々村友紀子さん！ \nテーマ「強く生きるためのヒント」 \n講演後に「お悩み相談コーナー」もあります。 \n【野々村友紀子さんプロフィール】\n1974年8月5日生まれの放送作家。大阪府出身。2丁拳銃・修士の妻。芸人として活動後、放送作家へ転身。現在は吉本総合芸能学院（NSC）東京校の講師、著書・脚本等の作家業に加え、メディア出演など多方面で活躍中。
URL:https://sekicity.info/event/seki-woman-festa-2026%ef%bc%88%e3%81%9b%e3%81%8d%e3%82%a6%e3%83%bc%e3%83%9e%e3%83%b3%e3%83%95%e3%82%a7%e3%82%b9%e3%82%bf%ef%bc%89/
LOCATION:わかくさ・プラザ\, 若草通２丁目１\, 関市\, 岐阜県\, 501-3802\, Japan
CATEGORIES:マルシェ
ATTACH;FMTTYPE=image/png:https://sekicity.info/wp-content/uploads/2026/02/sekiwf2026-1.png
END:VEVENT
BEGIN:VEVENT
DTSTART;TZID=Asia/Tokyo:20260222T100000
DTEND;TZID=Asia/Tokyo:20260222T150000
DTSTAMP:20260420T221332
CREATED:20250926T114408Z
LAST-MODIFIED:20251101T094014Z
UID:10000131-1771754400-1771772400@sekicity.info
SUMMARY:善光寺ご縁市
DESCRIPTION:関善光寺の境内で開催する、のんびり楽しむミニマルシェです。 \n毎月第4日曜日　10:00～15:00　雨天中止 \n \n 
URL:https://sekicity.info/event/%e5%96%84%e5%85%89%e5%af%ba%e3%81%94%e7%b8%81%e5%b8%82/2026-02-22/
LOCATION:関善光寺（宗休寺）\, 若草通２丁目１\, 関市\, 岐阜県\, Japan
CATEGORIES:マルシェ
ATTACH;FMTTYPE=image/jpeg:https://sekicity.info/wp-content/uploads/2025/09/善光寺-御縁市.jpg
END:VEVENT
BEGIN:VEVENT
DTSTART;TZID=Asia/Tokyo:20260221T100000
DTEND;TZID=Asia/Tokyo:20260222T160000
DTSTAMP:20260420T221332
CREATED:20260208T145507Z
LAST-MODIFIED:20260208T145507Z
UID:10000212-1771668000-1771776000@sekicity.info
SUMMARY:シャインカービング巡回展 in 関
DESCRIPTION:光を受けてきらめく彫り跡。 \n繊細で美しい“シャインカービング”の世界を体感できる巡回展を、岐阜県関市で開催いたします。 \n \n国内外から集まった100点以上の作品を一挙に展示。 \nシャインカービングならではの、透明感あふれる彫りの表現や、きらめく質感を間近でご覧いただけます。 \n会場内では「展示」「販売」「ワークショップ」「無料体験」と、見て・買って・作って楽しめるコンテンツを多数ご用意しております。初めての方からアート好きの方まで、どなたでもお気軽にご参加いただけます。 \n \n開催日時：2月21日（土）〜22日（日）12:00～16:00\n会場：せきてらす \n展示エリア\n国内外から集まった100作品以上のシャインカービング作品を展示。美しく輝く彫り跡が生み出す幻想的な世界をお楽しみいただけます。 \n販売エリア\nシャインカービングアカデミー公式によるグッズ販売コーナー。 \n人気シリーズ「装花譚」の限定コースターや先行販売デザインのほか、「シャインカービング御守り」、アウトレット商品など、ここでしか手に入らないアイテムも多数取り揃えております。 \nワークショップエリア\nその場でシャインカービングを体験できるワークショップを開催します。 \n「装花譚コースター」「輝くポーチ製作」「ゴールドチャーム製作」など、美しいアクセサリーや小物をお作りいただけます。 \n体験時間は約20分～。一部体験は年齢制限がございます。 \n・ゴールドチャーム製作体験（¥1\,000 税込） \nお好きなチャームとカラーを選び、彫刻刀で模様を削る体験です。\n削り進めると、まるで江戸切子のような美しい透明模様が浮かび上がります。\n初めての方でも、彫り進めるうちに自然とコツをつかみ、夢中になれる人気のプログラムです。\n※数量限定\n※6歳～9歳のお子様は安全な水玉模様のみ体験可能 \n・無料体験エリア \nお子様向けには「お菓子すくい体験」、\n大人の方向けには「シャインカービング mini 御守り製作体験」を無料でお楽しみいただけます。 \nキッチンカーご紹介\n今回、4台のキッチンカーに出店いただきます。\n（キッチンカーのみ、午前中から開店予定） \n・THALEIA SHOP（タレイアショップ）：スパイスカレー、サモサ \n・SWEET POTATO STAND：かまど焼き焼き芋＆スイーツ \n・ひととき：タレが選べる唐揚げ \n・cafe fortuna：りんご飴と揚げパン \nご来場の皆さまへ\nアートの美しさを感じるだけでなく、ご自身の手で“輝き”を生み出せる特別な2日間。 \n初めての方も、お一人でのご来場も、ご家族でのご参加も大歓迎です。 \nぜひ会場にて、シャインカービングの奥深い世界をご体感ください。
URL:https://sekicity.info/event/shinec-tour202602/
LOCATION:せきてらす\, 平和通４丁目12番地1\, 関市\, 岐阜県\, 501-3874\, Japan
CATEGORIES:アート・展覧会,マルシェ,体験・ワークショップ
ATTACH;FMTTYPE=image/webp:https://sekicity.info/wp-content/uploads/2026/02/shinec-tour202602.webp
END:VEVENT
BEGIN:VEVENT
DTSTART;TZID=Asia/Tokyo:20260125T100000
DTEND;TZID=Asia/Tokyo:20260125T150000
DTSTAMP:20260420T221332
CREATED:20251209T054542Z
LAST-MODIFIED:20251209T054542Z
UID:10000198-1769335200-1769353200@sekicity.info
SUMMARY:善光寺ご縁市
DESCRIPTION:関善光寺の境内で開催する、のんびり楽しむミニマルシェです \n毎月第４日曜日　１０：００～１５：００　雨天中止
URL:https://sekicity.info/event/%e5%96%84%e5%85%89%e5%af%ba%e3%81%94%e7%b8%81%e5%b8%82-4/
LOCATION:関善光寺（宗休寺）\, 若草通２丁目１\, 関市\, 岐阜県\, Japan
CATEGORIES:マルシェ
ATTACH;FMTTYPE=image/jpeg:https://sekicity.info/wp-content/uploads/2025/09/善光寺-御縁市.jpg
END:VEVENT
BEGIN:VEVENT
DTSTART;TZID=Asia/Tokyo:20260125T100000
DTEND;TZID=Asia/Tokyo:20260125T150000
DTSTAMP:20260420T221332
CREATED:20250926T114408Z
LAST-MODIFIED:20251101T094014Z
UID:10000130-1769335200-1769353200@sekicity.info
SUMMARY:善光寺ご縁市
DESCRIPTION:関善光寺の境内で開催する、のんびり楽しむミニマルシェです。 \n毎月第4日曜日　10:00～15:00　雨天中止 \n \n 
URL:https://sekicity.info/event/%e5%96%84%e5%85%89%e5%af%ba%e3%81%94%e7%b8%81%e5%b8%82/2026-01-25/
LOCATION:関善光寺（宗休寺）\, 若草通２丁目１\, 関市\, 岐阜県\, Japan
CATEGORIES:マルシェ
ATTACH;FMTTYPE=image/jpeg:https://sekicity.info/wp-content/uploads/2025/09/善光寺-御縁市.jpg
END:VEVENT
BEGIN:VEVENT
DTSTART;TZID=Asia/Tokyo:20251228T100000
DTEND;TZID=Asia/Tokyo:20251228T150000
DTSTAMP:20260420T221332
CREATED:20250926T115034Z
LAST-MODIFIED:20250926T115336Z
UID:10000110-1766916000-1766934000@sekicity.info
SUMMARY:善光寺ご縁市
DESCRIPTION:関善光寺の境内で開催する、のんびり楽しむミニマルシェです \n毎月第４日曜日　１０：００～１５：００　雨天中止
URL:https://sekicity.info/event/%e5%96%84%e5%85%89%e5%af%ba%e3%81%94%e7%b8%81%e5%b8%82-3/
LOCATION:関善光寺（宗休寺）\, 若草通２丁目１\, 関市\, 岐阜県\, Japan
CATEGORIES:マルシェ
ATTACH;FMTTYPE=:
END:VEVENT
BEGIN:VEVENT
DTSTART;TZID=Asia/Tokyo:20251228T100000
DTEND;TZID=Asia/Tokyo:20251228T150000
DTSTAMP:20260420T221332
CREATED:20250926T114408Z
LAST-MODIFIED:20251101T094014Z
UID:10000129-1766916000-1766934000@sekicity.info
SUMMARY:善光寺ご縁市
DESCRIPTION:関善光寺の境内で開催する、のんびり楽しむミニマルシェです。 \n毎月第4日曜日　10:00～15:00　雨天中止 \n \n 
URL:https://sekicity.info/event/%e5%96%84%e5%85%89%e5%af%ba%e3%81%94%e7%b8%81%e5%b8%82/2025-12-28/
LOCATION:関善光寺（宗休寺）\, 若草通２丁目１\, 関市\, 岐阜県\, Japan
CATEGORIES:マルシェ
ATTACH;FMTTYPE=image/jpeg:https://sekicity.info/wp-content/uploads/2025/09/善光寺-御縁市.jpg
END:VEVENT
BEGIN:VEVENT
DTSTART;TZID=Asia/Tokyo:20251221T110000
DTEND;TZID=Asia/Tokyo:20251221T190000
DTSTAMP:20260420T221332
CREATED:20251208T145920Z
LAST-MODIFIED:20260125T015913Z
UID:10000197-1766314800-1766343600@sekicity.info
SUMMARY:＼せきてらす de クリスマス／ JAZZ ＋ マルシェ ＋モルック大会
DESCRIPTION:・今度の《 Eat Local ＋ 》 は・・・ \n12月21日(日) 11:00〜19:00 \n＼せきてらす de クリスマス／ \nJAZZ ＋ マルシェ ＋モルック大会 \n@eat_local_plus \nオトナもコドモもみんなで楽しむ \nワクワクが詰まったクリスマス✨ \n屋内マルシェ 11:00〜19:00 \n　（多目的ホール・刃物工房） \n屋外マルシェ 11:00〜16:00 \n　（芝生広場） \nJazz Live 11時/14時/16時半/18時 \n　（多目的ホール） \nあみもの \n@amimono_jazz \nモルック大会 13:00〜16:00 \n　（芝生広場） \n　 参加チーム募集中！ \n★お申し込みは \n　 プロフィールのリンクからどうぞ♡ \nキャンドル作りWS 11:00〜19:00 \n　（刃物工房） \nかみしばい　12時〜 / 15時〜 \n　（多目的ホール） \nあおぞらとしょかん \n@hiroko.deluxe \nクイズラリーもあるよ \n　（せきてらす全体） \n＝出店者リスト＝ \nキッチンカー \nglowth kitchen \n@glowthcoffee \n士さむらいキッチン \n@samurai2929yakiniku \nホットサンド”ヒエサン” \n@piesan_gifu \nLittle genius \n@little.genius.coffee \nイロドリ \n@coffee_irodori \n中国料理さそり座の台所 \n@sasori_the_kitchen \ngruppo \n@gruppo.crepe \nG.A.foodtruck \n@cafe_g_a_ \n美濃市駅前カフェ 灯家 \n@akariya.mino \n真泉 ～しんせん～ \n@tuktuk_shinsen.555 \nフード \nDONI DONI \n@doni_doni_mino \nmumcrane. \n@mumcrane \nわっこ \n@indo.bento \nもりのいえキッチン \n@morinoie_kitchen \nごはん屋koya \n@gohanya_koya \nカフェ笑うサカナ \n@warasaka \nクロレラ工業 \n@_tasumo \nドリンク \nとお花のある暮らし \n@sympa_2020 \nカフェスズナリ \n@kazunarikunimitsu \nazul i earth \n@azul_i_earth313 \nHerb Shop & Cafe ꎺ ドゥトゥクール \n@dotoutcoeur \nパン・スイーツ \nchekagifu \n@chekagifu \n古民家カフェ たまる \n@tamaru_n.cafe \nいぶちゃい \n@be_cafe.evechai_1208 \nおはようどーなっつ \n@ohayou_doughnut \nカフェ.マビッシュ \n@mabiche39 \ncocoro_chocolate \n@cocoro_chocolate_love \n菓子屋 toitoitoi \n@kashiya.toitoitoi \n@mitocha_forest.sweets \nQUON CHOCOLATE DEMI-SEC \n@demi_sec_inuyama \nhokimoto \n@hokimoto2019 \nムスビノカナデ \n@musubino.kanade \n野菜・農産物加工品 \nHello！農園 \n@hello_noen \n岩平茶園 \n@iwadairacyaenn \nすとろべりーふぁーむたぱたっぷ \n@strawberryfarm_top_a_top \n一期一会ファーム \n@kousuke_ichigo_ichie_farm \n雑貨・ワークショップ \nCHARO~自転車に乗るヒゲのおじさん~ \n@cheki_charo3939 \nエムエム・ブックスみの \n@mm.books.mino \nビー・カンパニー \n@be_company2012 \nさわっか \n@sawacca_mizuhiki \n心と体を癒すfuwari \n@fuwari.canon \nシバタ文具 \n@shibata.bungu \n生地のM \n@kuratatetsuya_ \n@kijino_m \n飛騨産業 \n@biostimulant_sugisansui \nご家族で、おトモダチと、 \nひとりでふらりと。。。 \nぜひ遊びに来てね♡ \nボランティアスタッフさん募集中！ \n　 お気軽にDMください \n＊＊＊ イベント詳細 ＊＊＊ \nせきてらす de クリスマス \nJAZZ ＋ マルシェ ＋モルック大会 \n@eat_local_plus \n日時：2025年12月21日(日) 11:00〜19:00 \n会場：せきてらす @sekiterrace \n（岐阜県関市平和通） \n主催：ECRU \n共催：一般社団法人 関市観光協会 \n◎雨天決行（荒天中止） \n◎入場無料　◎駐車場あり \n＊＊＊＊＊＊＊＊＊＊＊＊＊
URL:https://sekicity.info/event/%ef%bc%bc%e3%81%9b%e3%81%8d%e3%81%a6%e3%82%89%e3%81%99-de-%e3%82%af%e3%83%aa%e3%82%b9%e3%83%9e%e3%82%b9%ef%bc%8f-jazz-%ef%bc%8b-%e3%83%9e%e3%83%ab%e3%82%b7%e3%82%a7-%ef%bc%8b%e3%83%a2%e3%83%ab/
LOCATION:岐阜県
CATEGORIES:マルシェ
ATTACH;FMTTYPE=image/jpeg:https://sekicity.info/wp-content/uploads/2025/12/20251221クリスマス-scaled.jpg
END:VEVENT
BEGIN:VEVENT
DTSTART;TZID=Asia/Tokyo:20251130T100000
DTEND;TZID=Asia/Tokyo:20251130T140000
DTSTAMP:20260420T221332
CREATED:20251116T034110Z
LAST-MODIFIED:20251116T034110Z
UID:10000194-1764496800-1764511200@sekicity.info
SUMMARY:セキビズチャレンジャーズマルシェ「身体が喜ぶ食と癒しのご褒美マルシェ」
DESCRIPTION:「身体が喜ぶ食と癒しのご褒美マルシェ」を開催します！\n中小事業者を支えるビジネスの相談窓口である関市ビジネスサポートセンター（セキビズ）が、事業者の方々の商品、サービスを広く知っていただき、応援してくれるファンを増やすために、第2回セキビズチャレンジャーズマルシェとして、「身体が喜ぶ 食と癒しのご褒美マルシェ」を開催します！ \n◆日時：令和7年11月30日（日）午前10時から午後2時まで \n◆場所：せきてらす \n総勢25店舗のチャレンジャーが屋外・多目的ホール・刃物工房の3会場でお待ちしています！ \n【先着100名限定】対象店のお得なクーポンがもらえる！\nさらに、先着100名様限定で、セキビズのインスタグラムアカウントをフォローすると、対象店舗で使用できる割引クーポンをプレゼント！ \n気になるお店を探して、皆さんのいきつけのお店を増やしませんか。 \nぜひご家族皆さんでお越しください！
URL:https://sekicity.info/event/sekibiz-marche202511/
LOCATION:せきてらす\, 平和通４丁目12番地1\, 関市\, 岐阜県\, 501-3874\, Japan
CATEGORIES:マルシェ
ATTACH;FMTTYPE=image/png:https://sekicity.info/wp-content/uploads/2025/11/130.png
END:VEVENT
BEGIN:VEVENT
DTSTART;TZID=Asia/Tokyo:20251123T100000
DTEND;TZID=Asia/Tokyo:20251123T150000
DTSTAMP:20260420T221332
CREATED:20250926T114408Z
LAST-MODIFIED:20251101T094014Z
UID:10000128-1763892000-1763910000@sekicity.info
SUMMARY:善光寺ご縁市
DESCRIPTION:関善光寺の境内で開催する、のんびり楽しむミニマルシェです。 \n毎月第4日曜日　10:00～15:00　雨天中止 \n \n 
URL:https://sekicity.info/event/%e5%96%84%e5%85%89%e5%af%ba%e3%81%94%e7%b8%81%e5%b8%82/2025-11-23/
LOCATION:関善光寺（宗休寺）\, 若草通２丁目１\, 関市\, 岐阜県\, Japan
CATEGORIES:マルシェ
ATTACH;FMTTYPE=image/jpeg:https://sekicity.info/wp-content/uploads/2025/09/善光寺-御縁市.jpg
END:VEVENT
BEGIN:VEVENT
DTSTART;TZID=Asia/Tokyo:20251103T100000
DTEND;TZID=Asia/Tokyo:20251103T150000
DTSTAMP:20260420T221332
CREATED:20251029T040216Z
LAST-MODIFIED:20251029T040255Z
UID:10000126-1762164000-1762182000@sekicity.info
SUMMARY:輪島の美味しいものが大集合！輪島物産展
DESCRIPTION:能登半島地震　復興支援プロジェクト\n \n輪島の美味しいものが大集合\n能登半島地震復興支援プロジェクトです！\n輪島市の美味しいものを食べて、復興支援に協力しませんか？ \n日時：11/3（月）10:00～15：00\n場所：アピセ関（岐阜県関市平和通７丁目５−１） \nお問い合わせ：圓通寺子ども食堂（岡田英賢）\n☎　090-3454-1413
URL:https://sekicity.info/event/wajimabussan202511/
LOCATION:アピセ・関\, 平和通７丁目５−１\, 関市\, 岐阜県\, 501-3874\, Japan
CATEGORIES:マルシェ
ATTACH;FMTTYPE=image/jpeg:https://sekicity.info/wp-content/uploads/2025/10/④-768x1086-1.jpg
END:VEVENT
BEGIN:VEVENT
DTSTART;TZID=Asia/Tokyo:20251102T100000
DTEND;TZID=Asia/Tokyo:20251102T150000
DTSTAMP:20260420T221332
CREATED:20251029T024352Z
LAST-MODIFIED:20251029T024352Z
UID:10000123-1762077600-1762095600@sekicity.info
SUMMARY:上之保ふれあい祭り
DESCRIPTION:令和７年１１月２日（日）　　１０：００～１５：００ \n上之保生涯学習センターにて「上之保ふれあい祭り」が開催されます。 \n・上之保で生まれた　『ゆずりん』　にあえるよ！\n・上之保にキッチンカーがやってくる！\n・健康チェックコーナーもあるよ！\n・ボルダリング体験もあるよ！\n・消防車・救急車がやってきます、一緒に写真を取ってね！\n・地域で活躍しているクラブのステージ発表もあるよ！ \n楽しい催しがいっぱい、ぜひ皆さん誘い合ってご参加ください。
URL:https://sekicity.info/event/kaminohofureai2025/
LOCATION:関市上之保生涯学習センター\, 上之保13505\, 関市\, 岐阜県\, 501-3601\, Japan
CATEGORIES:マルシェ
ATTACH;FMTTYPE=image/jpeg:https://sekicity.info/wp-content/uploads/2025/10/s-fureaimaturi.jpg
END:VEVENT
BEGIN:VEVENT
DTSTART;TZID=Asia/Tokyo:20251102T090000
DTEND;TZID=Asia/Tokyo:20251102T160000
DTSTAMP:20260420T221332
CREATED:20251029T023442Z
LAST-MODIFIED:20251029T023622Z
UID:10000122-1762074000-1762099200@sekicity.info
SUMMARY:武芸川オータムフェス2025
DESCRIPTION:今年は過去最多となる40店舗が集結します！\n今年も「屋内」で開催します。\n雨天決行！しますので、ぜひぜひスケジュールしておいてください♪ \n \n日時：１１月２日（日）午前9時～午後4時\n場所：武芸川生涯学習センター（メイン会場）、武芸川ふるさと館（展示） \n今年の「武芸川オータムフェス」の見どころは…⁉️\nなんと、過去最多となる「４０店舗」が集結します \n \n飲食はキッチンカー８台を含む【１７店舗】が出店 \n物販はワークショップを含む【１９店舗】が出店️ \n親子で楽しめる「わくわく体験コーナー」では、スポーツや楽器の体験すぎコプターや本格的な紙飛行機✈️づくりが無料で体験できます \nステージ発表は【１４組】の皆さんが出場します。子どもたちの発表から本格的なジャズまで幅広いジャンルの音楽をお楽しみください \nロビーでは、大道芸人「物語人（ストリート）」さんによるパフォーマンス　「滑舌の悪い手品師　マジックジョン」さんによるマジックショー　「NPO法人自然・生活共生会」の方による紙芝居もご覧いただけます \n今年は初めて「スタンプラリー」も開催❣️\n会場のあちこちを回ってすべてのスタンプを押したら景品と交換できます \nスタンプラリーの会場の1つである「武芸川ふるさと館」では展示を行っています。 \nぜひ足を延ばして素晴らしい作品の数々をご覧ください✨ \n一部作品は武芸川生涯学習センターにて展示しております。 \nファミリーで\nお友だちと\nお一人でも\n楽しい1日を過ごせることまちがいなし❣️ \nぜひ「武芸川オータムフェス2025」にお越しください！ \n詳しい出店や出演者の情報はこちら\n武芸川町の情報発信サイト「まち肌屋」に特集記事を掲載しました。 \nhttps://machihadaya.site/mugegawaautumnfestival2025/ \n各出店者、出演者の情報が満載です\nお出かけ前の予習にも役立ちます。あわせてぜひご覧ください☺️
URL:https://sekicity.info/event/mugegawa20251102/
LOCATION:武芸川生涯学習センター\, 武芸川町小知野７７９−１\, 関市\, 岐阜県\, 5012602
CATEGORIES:マルシェ
ATTACH;FMTTYPE=image/jpeg:https://sekicity.info/wp-content/uploads/2025/10/mugegawa20251102-1.jpg
END:VEVENT
BEGIN:VEVENT
DTSTART;TZID=Asia/Tokyo:20251102T090000
DTEND;TZID=Asia/Tokyo:20251102T150000
DTSTAMP:20260420T221332
CREATED:20251101T131601Z
LAST-MODIFIED:20251101T131601Z
UID:10000189-1762074000-1762095600@sekicity.info
SUMMARY:第４回桜ヶ丘ふれあい文化祭＆秋まつり～笑顔満祭～
DESCRIPTION:第４回桜ヶ丘ふれあい文化祭＆秋まつりを開催します。 \n \n第４回桜ヶ丘ふれあい文化祭＆秋まつり～笑顔満祭～\n作品展、マルシェ、ワークショップ、キッチンカー等が並びます。 \n桜ヶ丘ふれあいセンターすぐ横の「鋳物師屋東公園」では、ゲーム等の遊びをたくさん用意しました。 \nぜひ、ご家族・お友達をお誘いあわせの上、ご来場ください。 \n日時：2027年11月2日（日）9:00～15:00\n場所：桜ヶ丘ふれあいセンター、鋳物師屋東公園 \n問合せ先\n桜ヶ丘ふれあいのまちづくり推進委員会　　0575-22-1931
URL:https://sekicity.info/event/sakurafureai202511/
LOCATION:桜ヶ丘ふれあいセンター\, 鋳物師屋5丁目2-30\, 関市\, 岐阜県\, 501-3914
CATEGORIES:アート・展覧会,マルシェ,親子向け
ATTACH;FMTTYPE=image/jpeg:https://sekicity.info/wp-content/uploads/2025/11/sakura202511.jpg
END:VEVENT
BEGIN:VEVENT
DTSTART;TZID=Asia/Tokyo:20251101T100000
DTEND;TZID=Asia/Tokyo:20251102T150000
DTSTAMP:20260420T221332
CREATED:20251026T010608Z
LAST-MODIFIED:20251026T011017Z
UID:10000120-1761991200-1762095600@sekicity.info
SUMMARY:岐阜県百年公園オータムフェスティバル2025
DESCRIPTION:グルメマーケットにクラフトマーケット、薪窯ピザ焼き体験、長良川鉄道コーナー、ワークショップ色々に、2日（日）は郡上踊りが来る！ \n日時：11/1（土）11/2（日）\n10：00～15：00\n場所：岐阜県百年公園芝生広場（北口）\n岐阜県関市小屋名1966 \n地域の観光や文化、おいしいグルメを紹介する「中濃地域観光フェア」も同時開催\nジビエ料理等を楽しむことができます。ぜひお出かけください！ \n主催：岐阜県百年公園\n☎0575-28-2166\n公式LINE：https://line.me/R/ti/p/@089saqpo\n公式Instagram：https://www.instagram.com/100nenpark?igsh=MXF0MzM1d3FhZTcwYQ==
URL:https://sekicity.info/event/autumn100-2025/
LOCATION:岐阜県百年公園\, 小屋名１９６６\, 関市\, 岐阜県\, 501-3941\, Japan
CATEGORIES:マルシェ,体験・ワークショップ
ATTACH;FMTTYPE=image/jpeg:https://sekicity.info/wp-content/uploads/2025/10/autum100-2025.jpg
END:VEVENT
BEGIN:VEVENT
DTSTART;TZID=Asia/Tokyo:20251026T100000
DTEND;TZID=Asia/Tokyo:20251026T150000
DTSTAMP:20260420T221332
CREATED:20250926T114408Z
LAST-MODIFIED:20251101T094014Z
UID:10000108-1761472800-1761490800@sekicity.info
SUMMARY:善光寺ご縁市
DESCRIPTION:関善光寺の境内で開催する、のんびり楽しむミニマルシェです。 \n毎月第4日曜日　10:00～15:00　雨天中止 \n \n 
URL:https://sekicity.info/event/%e5%96%84%e5%85%89%e5%af%ba%e3%81%94%e7%b8%81%e5%b8%82/2025-10-26/
LOCATION:関善光寺（宗休寺）\, 若草通２丁目１\, 関市\, 岐阜県\, Japan
CATEGORIES:マルシェ
ATTACH;FMTTYPE=image/jpeg:https://sekicity.info/wp-content/uploads/2025/09/善光寺-御縁市.jpg
END:VEVENT
BEGIN:VEVENT
DTSTART;VALUE=DATE:20251011
DTEND;VALUE=DATE:20251013
DTSTAMP:20260420T221332
CREATED:20250219T075151Z
LAST-MODIFIED:20250430T073530Z
UID:10000009-1760140800-1760313599@sekicity.info
SUMMARY:刃物まつり
DESCRIPTION:刀都（とうと）関の秋を彩る一大イベント「岐阜県関市刃物まつり」 \n岐阜県関市は700有余年の伝統を持つ刃物のまち。そんな刀都（とうと）関の秋を彩る一大イベントが「岐阜県関市刃物まつり」です。このイベントは、1968年に始まり、半世紀以上も続いています。刃物まつりの一番の魅力は、市内刃物メーカー、卸売業者40社以上が出店する「刃物大廉売市」です。包丁やはさみ、爪切り、ナイフなど豊富な高品質の「関の刃物」が、刃物まつりならではのお値打ち価格で販売されます。また、この刃物まつりでしか販売されないアウトレット品なども販売されており、良質な刃物をお手頃価格で購入することができるかもしれません。 \n「刃物大廉売市」にも負けていない魅力的なイベントが、市内だけではなく全国のナイフメーカーが展示・販売する「関アウトドアズナイフショー」です。市内ファクトリーメーカーや国内だけではなく国外のカスタムメーカーの種類豊富なナイフを多数展示しています。また、この刃物まつりでしか買うことができない限定ナイフや特別価格ナイフの販売もされています。その他にも、刀匠による火花飛び散る圧巻の古式日本刀鍛錬実演や居合切り・抜刀術の実演、包丁研ぎ、刃物検定など、「刃物のまち」ならではのイベントが繰り広げられます。 \nhttps://seki-hamono.jp/
URL:https://sekicity.info/event/seki-hamono2025/
LOCATION:関市本町通商店街\, 本町\, 関市\, 岐阜県\, Japan
CATEGORIES:マルシェ,体験・ワークショップ,祭り・イベント
ATTACH;FMTTYPE=image/jpeg:https://sekicity.info/wp-content/uploads/2025/02/mainvisual_pc.jpg
END:VEVENT
BEGIN:VEVENT
DTSTART;TZID=Asia/Tokyo:20251005T110000
DTEND;TZID=Asia/Tokyo:20251005T170000
DTSTAMP:20260420T221332
CREATED:20251003T225153Z
LAST-MODIFIED:20251003T225456Z
UID:10000111-1759662000-1759683600@sekicity.info
SUMMARY:【10/5に延期】歩く、せき市 in 鮎之瀬
DESCRIPTION:天候に恵まれず出店者様、来場者様にはご迷惑をおかけいたします。 \n歩く、せき市 in 鮎之瀬\n \n車移動が常となっている関市を、多くの方に「歩いて」ゆっくり町の魅力を楽しんで頂くマルシェです🚶 \n今回は小瀬鵜飼が開催されている関市鮎之瀬地域が舞台となります！\n古代遺跡周辺にお店が並びます。 \n会場マップ\n \n当日は関の歴史を堪能できる体験ワークショップも同時開催！🙌 \n○小瀬鵜飼船頭体験【予約必須】\n○円空彫りワークショップ【予約必須】\n○版築ワークショップ（当日受付）\n○鮎之瀬の歴史を知るガイドツアー（当日受付） \n＊【予約必須】のワークショップは、プロフィールURLよりお申し込みください。 \n【会場】\n弥勒寺官衙遺跡周辺など長良川沿いエリア \n※雨天時は予備日開催、予備日も雨が予想される場合はイベント中止となります。 \n臨時駐車場について\n \n※駐車場に限りがあり、混雑する可能性があります。\n※公共交通機関（関シティバス）をご利用いただくとスムーズにご来場いただけます。可能な限り公共交通機関のご利用をお願いいたします。 \n関シティバスでお越しの場合［関板取線］\n■行き\n発:「関シティターミナル」バス停\n着:「鮎乃瀬橋」バス停\n・10:59-11:10\n・12:54-13:05\n・15:09-15:20 \n■帰り\n発:「鮎乃瀬橋」バス停\n着:「関シティターミナル」バス停\n・13:14-13:27\n・15:24-15:37 \n  \nマルシェを通して”関市”という町に少しでも興味を持っていただけたら幸いです。 \n最新情報はインスタグラムにてご確認ください！ \nhttps://www.instagram.com/sekibiyori/
URL:https://sekicity.info/event/aruku-sekiichi202510/
LOCATION:鮎之瀬\, 小瀬\, 関市\, 岐阜県\, Japan
CATEGORIES:マルシェ
ATTACH;FMTTYPE=image/png:https://sekicity.info/wp-content/uploads/2025/10/sekiichi202510_enki.png
END:VEVENT
BEGIN:VEVENT
DTSTART;TZID=Asia/Tokyo:20250727T100000
DTEND;TZID=Asia/Tokyo:20250727T160000
DTSTAMP:20260420T221332
CREATED:20250727T002726Z
LAST-MODIFIED:20250727T002726Z
UID:10000088-1753610400-1753632000@sekicity.info
SUMMARY:7月27日（日）夏まつり！おてらマーケット in 圓通寺。親子でフリマ・ワークショップ・キッチンカーを楽しもう
DESCRIPTION:子育て応援の仲間たちが大集合♪\nワークショップやフリマでお買い物！\nキッチンカーでグルメも満喫！ \nスーパーボールすくいや射的もあります。 \nぜひ気軽に覗きに来てください♪ \n会場マップ・駐車場はこちら\n \n  \n\nhttps://sekicity.info/wp-content/uploads/2025/07/774796746.857397.mp4
URL:https://sekicity.info/event/20250727oteramarket/
LOCATION:圓通寺（円通寺）\, 小屋名２４９−１\, 関市\, 岐阜県\, 501-3941\, Japan
CATEGORIES:マルシェ
ATTACH;FMTTYPE=image/png:https://sekicity.info/wp-content/uploads/2025/07/47f449eab5fed99f527f746936a526c1.png
END:VEVENT
BEGIN:VEVENT
DTSTART;TZID=Asia/Tokyo:20250725T120000
DTEND;TZID=Asia/Tokyo:20250725T193000
DTSTAMP:20260420T221332
CREATED:20250605T231902Z
LAST-MODIFIED:20250605T232612Z
UID:10000068-1753444800-1753471800@sekicity.info
SUMMARY:第4回 World Cafe 2025 in せきてらす
DESCRIPTION:関市国際交流協会、2025年もWorld Cafe開催！\n2025/7/20（日）12:00～19:30\n入場無料 Admission free \nワールドグルメ (World Gourmet)\n■ 関市国際交流協会（日本）\n第2回で人気だった協会特製グリーンカレーがカムバック！\n・グリーンカレー\n・おつまみ\n・ドリンク各種 \n■ だるまラーメン（日本）\n・ラーメン\n・かき氷など \n■ ベトナム（VYSA GIFU、DUONG ANH FOOD & DRINKS、Cafe Ha Noi pho）\n・バインミー（サンドウィッチ）\n・ブンチャー（焼き豚のせ冷たい米麺）\n・フォー（米粉のスープ麺）\n・ベトナムドリンク\n・コーヒーなど\n・チェー \n■ Sanada’s Grill Japan（ブラジル）\n・パイナップル\n・牛串\n・ソーセージ\n・ガラナ（炭酸飲料）など \n■ MOSSNAAKO（セネガル）\n・クスクス（粒状のパスタ）\n・ピーナッツサンドイッチ\n・ベニエ（ドーナツ）\n・ビサップジュース（セネガルで一番人気のジュース）など \n※フード・ドリンクはチケット制です。当日券の販売もいたします。 \nイベント (Events)\n■ 浴衣体験（Yukata Experience）\n15:30～19:30\n浴衣を着て抹茶を飲んで記念写真も撮れます \n■ 抹茶体験（Matcha Experience）\n12:00～（なくなり次第終了） \n■ 盆踊り（BONODORI Dance）\n18:00～19:30 \n■ ジャズバンド演奏（Live Band Performance）\n15:00～18:00 ケージ英人&AYA\n・サックス・ギター・パーカッションのジャズバンド\n・英語で歌う懐かしの洋楽をお送りします \nワークショップなど\n日本文化のワークショップ（日本） \nフィリピンのゲーム体験（フィリピン） \nバンブーダンス体験（フィリピン） \nベトナムダンス（VYSA GIFU、ベトナム） \n小瀬鵜飼体験会（OzeUkai 鵜飼体験）\n■ 体験申し込みコーナー\n・実際に鵜飼の道具を使って漁を体験\n・鵜匠さんの衣装を着て記念撮影もできます \n【時間】13:30～ / 14:30～ / 15:30～（各回約30分）\n【定員】各回10名（先着順）\n【参加費】1\,000円（小学生以上対象）\n【協力】関遊船企業組合
URL:https://sekicity.info/event/world-cafe2025/
LOCATION:せきてらす\, 平和通４丁目12番地1\, 関市\, 岐阜県\, 501-3874\, Japan
CATEGORIES:マルシェ,体験・ワークショップ,地域交流,親子向け
ATTACH;FMTTYPE=image/jpeg:https://sekicity.info/wp-content/uploads/2025/06/wc202507.jpg
END:VEVENT
BEGIN:VEVENT
DTSTART;TZID=Asia/Tokyo:20250628T100000
DTEND;TZID=Asia/Tokyo:20250629T150000
DTSTAMP:20260420T221332
CREATED:20250629T143045Z
LAST-MODIFIED:20250629T143302Z
UID:10000081-1751104800-1751209200@sekicity.info
SUMMARY:市場イチバン・夏のやさいと美味しいものフェア
DESCRIPTION:・関市在住Youtuber たわらファーム　トークショー＆じゃんけん大会！ \n・菓子まき（両日開催） \n・いろんな美味しいキッチンカーが来るよ！
URL:https://sekicity.info/event/ichibaichiban202506/
LOCATION:中濃公設地方卸売市場\, 若草通１丁目８\, 関市\, 岐阜県\, 501-3802\, Japan
CATEGORIES:マルシェ
ATTACH;FMTTYPE=image/jpeg:https://sekicity.info/wp-content/uploads/2025/06/E7E230D4-AB41-42D9-911E-76510AE5F4A1-scaled.jpg
END:VEVENT
BEGIN:VEVENT
DTSTART;TZID=Asia/Tokyo:20250621T140000
DTEND;TZID=Asia/Tokyo:20250621T200000
DTSTAMP:20260420T221332
CREATED:20250430T074753Z
LAST-MODIFIED:20250523T020024Z
UID:10000045-1750514400-1750536000@sekicity.info
SUMMARY:SEKIASOBI vol.3（岐阜県の8ブリュワリー集結）
DESCRIPTION:＼岐阜のビールと、ワクワクする未来へ／\n関市に岐阜県内8つ❗️ のブリュワリーが集結😳 \n人気の農Land Beerさんと 新星の104 BREWERYさんを加え 8つの‼️ 岐阜県のクラフトビールを堪能できます🍻 \n🍺 カマドブリュワリー（瑞浪市）日本全国からファンが押しかける…！\n🍺 ヒダノオクブルワリー（飛騨市）ハーブなど繊細で大胆オリジナル\n🍺 River Port Brewery（美濃市）流行りでなく誠実な美味しさ追求\n🍺 美濃加茂ビール（美濃加茂市）現役消防士の地域活性にファン増\n🍺 農LAND BEER（白川町）センス抜群！有機農家による丁寧な味わい\n🍺 美濃関麦酒プロジェクト（関市）キウイなど地域の原材料を活用\n🍺 Blade Factory Brewing（関市）刃物をテーマに次々広がる美味しさ\n🍺 104 BREWERY（土岐市）去年11/2にオープン！で、売り切れ続出 !? \n各ブリュワリーこだわりのラインナップ、飲み比べしやすい10オンスサイズのオリジナル・プラカップで提供します🍻 \n食事も充実❗️ビールとの相性バッチリ✨\n🌮sayulita mexicanfood（タコス）\n🍕CAFE & PIZZA DELTA（ニューヨークピザ）\n🍟オーサムフレンチフライズ（フレンチフライポテト専門店）\n🥙ケバブタイム（ドネルケバブやトルコアイス）\n🥩Cow Cow Grill （炭焼きステーキ）\n🦪牡蠣とジビエのお店（蒸し牡蠣など）\n🍢10CAfE by masuya （夏のおでん、関牛乳ドリンク）\n🍾酒ゃビック関店（テイクアウトの瓶や缶も！） \n市場内の店舗もお楽しみください🙋‍♂️ \n🧁cafeふわり（スイーツ）\n🍛CURRY STAND EKA（スパイスカレー）\n🍿奥田商店（お菓子問屋）　など
URL:https://sekicity.info/event/202506-sekiasobi-vol3/
LOCATION:中濃公設地方卸売市場\, 若草通１丁目８\, 関市\, 岐阜県\, 501-3802\, Japan
CATEGORIES:マルシェ
ATTACH;FMTTYPE=image/png:https://sekicity.info/wp-content/uploads/2025/04/sekiasobi_vol3-1.png
ORGANIZER;CN="%E9%96%A2%E3%82%B7%E3%82%B9%E3%83%86%E3%83%A0%E9%83%A8%EF%BC%88%E9%96%A2%E3%81%95%E3%82%93%E3%81%BD%E3%83%BBSEKIASOBI%E3%83%BB%E3%81%9B%E3%81%8D%E3%81%BE%E3%81%AA%E3%81%B3%EF%BC%89":MAILTO:sekisysdept@gmail.com
END:VEVENT
BEGIN:VEVENT
DTSTART;TZID=Asia/Tokyo:20250601T103000
DTEND;TZID=Asia/Tokyo:20250601T153000
DTSTAMP:20260420T221332
CREATED:20250522T092834Z
LAST-MODIFIED:20250523T234127Z
UID:10000063-1748773800-1748791800@sekicity.info
SUMMARY:Vegan Earth Market
DESCRIPTION:EAT LOCAL ＋ わらべ村 \n〜地域の美味しいモノ！いいモノ！に出会うマルシェ〜 \n🌈Vegan EARTH MARKET\n〜大地からの贈り物マルシェ〜 \nわたしたちが暮らすまちの \nおいしい！ステキ！に出会いこのまちをもっともっと好きになるマルシェ \nオトナもコドモも丸っと一日せきてらすを楽しもう！ \nぜひお越しください！ \n【イベント概要】 \n■日時：６月１日（日）１０：３０～１５：３０ \n■場所：せきてらす \n@sekiterrace\n＊雨天決行（荒天中止）\n＊入場無料・駐車場あり \n■内容： \n・安心！おいしい！フード・ドリンク・パン・お菓子 \n・無農薬・無化学肥料のお野菜等の販売 \n・こだわり食材を使ったキッチンカーなど \n・アトピッ子も安心の米粉おやつ \n・雑貨・体験・紙芝居等 \nイベントの詳細は \nInstagramアカウント「＠eat_local_plus」をご覧ください。 \nhttps://www.instagram.com/eat_local_plus/ \n☆当時のボランティアスタッフさん大募集中！\n受付、駐車場案内、設営＆撤収のお手伝いなど\n・veganのお弁当付き♡\n・交代でマルシェを楽しむ時間もあり♪ \nお問い合わせはDMでお願いします \n６/１せきてらすでお待ちしてます🥰💕 \n 
URL:https://sekicity.info/event/vegan-earth-market/
LOCATION:せきてらす\, 平和通４丁目12番地1\, 関市\, 岐阜県\, 501-3874\, Japan
CATEGORIES:マルシェ
ATTACH;FMTTYPE=:
ORGANIZER;CN="EAT LOCAL +":MAILTO:eatlocalplus@gmail.com
END:VEVENT
BEGIN:VEVENT
DTSTART;TZID=Asia/Tokyo:20250523T170000
DTEND;TZID=Asia/Tokyo:20250523T200000
DTSTAMP:20260420T221332
CREATED:20250524T000136Z
LAST-MODIFIED:20250524T000340Z
UID:10000066-1748019600-1748030400@sekicity.info
SUMMARY:市場イチバン夜市
DESCRIPTION:🔴5月23日（金）🌟\n夕方5時から8時まで \n関市中濃公設地方卸売市場\n🅿️北側駐車場で開催！！ \n初夏バージョンの新メニューも！ \nいつものお店がみなさまをお待ちしています😁🤗👍\nぜひ来週金曜日の夕方は市場にお立ち寄りください！ \n—–*—–*—–*—–*—–*—–*—–*– \n場所：中濃公設地方卸売市場\n関市若草通一丁目８番地 \n最寄り駅：長良川鉄道　関市役所前駅\nまたは関駅 \n入場無料\n無料駐車場あり
URL:https://sekicity.info/event/yoichi20250523/
LOCATION:中濃公設地方卸売市場\, 若草通１丁目８\, 関市\, 岐阜県\, 501-3802\, Japan
CATEGORIES:マルシェ
ATTACH;FMTTYPE=image/png:https://sekicity.info/wp-content/uploads/2025/05/スクリーンショット-2025-05-24-9.02.16.png
END:VEVENT
END:VCALENDAR