BEGIN:VCALENDAR
VERSION:2.0
PRODID:-//せき情報局 - ECPv6.15.16//NONSGML v1.0//EN
CALSCALE:GREGORIAN
METHOD:PUBLISH
X-WR-CALNAME:せき情報局
X-ORIGINAL-URL:https://sekicity.info
X-WR-CALDESC:せき情報局 のイベント
REFRESH-INTERVAL;VALUE=DURATION:PT1H
X-Robots-Tag:noindex
X-PUBLISHED-TTL:PT1H
BEGIN:VTIMEZONE
TZID:Asia/Tokyo
BEGIN:STANDARD
TZOFFSETFROM:+0900
TZOFFSETTO:+0900
TZNAME:JST
DTSTART:20240101T000000
END:STANDARD
END:VTIMEZONE
BEGIN:VEVENT
DTSTART;TZID=Asia/Tokyo:20250622T080000
DTEND;TZID=Asia/Tokyo:20250622T103000
DTSTAMP:20260419T211312
CREATED:20250502T040234Z
LAST-MODIFIED:20250505T085503Z
UID:10000050-1750579200-1750588200@sekicity.info
SUMMARY:さんやほう2025⑤草取り
DESCRIPTION:この日は草取り。 \n \n \n関市のこだわりの地酒「特別純米酒『さんやほう』」の原料米となる、農薬・化学肥料を使わない「みのにしき」。 \n応援ご賛同いただける皆さんと、田植えや草取りなどの農作業を一緒にしながら、稲の生長や収穫を楽しみ、特別純米酒「さんやほう」も味わいます。 \n〈主催〉　小坂酒造場、さんやほうサポータークラブ〈場所〉　関市黒屋字尾太下（JAめぐみの カントリーL・A・W西）　約58a〈年会費〉　2\,000円（通信費、保険代など） \n〈活動予定〉　天候、生育状況により作業の追加、変更があります。
URL:https://sekicity.info/event/sanyahou2025-5/
LOCATION:さんやほう田んぼ\, 黒屋3563番地\, 関市\, 岐阜県\, Japan
CATEGORIES:体験・ワークショップ
ATTACH;FMTTYPE=image/jpeg:https://sekicity.info/wp-content/uploads/2025/05/S__11673632.jpg
END:VEVENT
BEGIN:VEVENT
DTSTART;TZID=Asia/Tokyo:20250615T080000
DTEND;TZID=Asia/Tokyo:20250615T103000
DTSTAMP:20260419T211312
CREATED:20250502T040129Z
LAST-MODIFIED:20250505T085503Z
UID:10000049-1749974400-1749983400@sekicity.info
SUMMARY:さんやほう④草取り
DESCRIPTION:この日は草取り。 \n \n \n関市のこだわりの地酒「特別純米酒『さんやほう』」の原料米となる、農薬・化学肥料を使わない「みのにしき」。 \n応援ご賛同いただける皆さんと、田植えや草取りなどの農作業を一緒にしながら、稲の生長や収穫を楽しみ、特別純米酒「さんやほう」も味わいます。 \n〈主催〉　小坂酒造場、さんやほうサポータークラブ〈場所〉　関市黒屋字尾太下（JAめぐみの カントリーL・A・W西）　約58a〈年会費〉　2\,000円（通信費、保険代など） \n〈活動予定〉　天候、生育状況により作業の追加、変更があります。
URL:https://sekicity.info/event/sanyahou2025-4/
LOCATION:さんやほう田んぼ\, 黒屋3563番地\, 関市\, 岐阜県\, Japan
CATEGORIES:体験・ワークショップ
ATTACH;FMTTYPE=image/jpeg:https://sekicity.info/wp-content/uploads/2025/05/S__11673632.jpg
END:VEVENT
BEGIN:VEVENT
DTSTART;TZID=Asia/Tokyo:20250524T103000
DTEND;TZID=Asia/Tokyo:20250524T113000
DTSTAMP:20260419T211312
CREATED:20250502T035755Z
LAST-MODIFIED:20250505T085503Z
UID:10000048-1748082600-1748086200@sekicity.info
SUMMARY:さんやほう③米ぬか散布
DESCRIPTION:この日は米ぬか散布。雨天順延。 \n \n \n関市のこだわりの地酒「特別純米酒『さんやほう』」の原料米となる、農薬・化学肥料を使わない「みのにしき」。 \n応援ご賛同いただける皆さんと、田植えや草取りなどの農作業を一緒にしながら、稲の生長や収穫を楽しみ、特別純米酒「さんやほう」も味わいます。 \n〈主催〉　小坂酒造場、さんやほうサポータークラブ〈場所〉　関市黒屋字尾太下（JAめぐみの カントリーL・A・W西）　約58a〈年会費〉　2\,000円（通信費、保険代など） \n〈活動予定〉　天候、生育状況により作業の追加、変更があります。
URL:https://sekicity.info/event/sanyahou2025-3/
LOCATION:さんやほう田んぼ\, 黒屋3563番地\, 関市\, 岐阜県\, Japan
CATEGORIES:体験・ワークショップ
ATTACH;FMTTYPE=image/jpeg:https://sekicity.info/wp-content/uploads/2025/05/S__11673632.jpg
END:VEVENT
BEGIN:VEVENT
DTSTART;TZID=Asia/Tokyo:20250524T090000
DTEND;TZID=Asia/Tokyo:20250524T103000
DTSTAMP:20260419T211312
CREATED:20250502T035543Z
LAST-MODIFIED:20250505T085503Z
UID:10000047-1748077200-1748082600@sekicity.info
SUMMARY:さんやほう2025②田植え
DESCRIPTION:この日は田植え。雨天順延。 \n  \n関市のこだわりの地酒「特別純米酒『さんやほう』」の原料米となる、農薬・化学肥料を使わない「みのにしき」。 \n応援ご賛同いただける皆さんと、田植えや草取りなどの農作業を一緒にしながら、稲の生長や収穫を楽しみ、特別純米酒「さんやほう」も味わいます。 \n〈主催〉　小坂酒造場、さんやほうサポータークラブ〈場所〉　関市黒屋字尾太下（JAめぐみの カントリーL・A・W西）　約58a〈年会費〉　2\,000円（通信費、保険代など） \n〈活動予定〉　天候、生育状況により作業の追加、変更があります。
URL:https://sekicity.info/event/sanyahou2025-2/
LOCATION:さんやほう田んぼ\, 黒屋3563番地\, 関市\, 岐阜県\, Japan
CATEGORIES:体験・ワークショップ
ATTACH;FMTTYPE=image/jpeg:https://sekicity.info/wp-content/uploads/2025/05/S__11673632.jpg
END:VEVENT
BEGIN:VEVENT
DTSTART;TZID=Asia/Tokyo:20250517T100000
DTEND;TZID=Asia/Tokyo:20250518T160000
DTSTAMP:20260419T211312
CREATED:20250402T022451Z
LAST-MODIFIED:20250430T073652Z
UID:10000023-1747476000-1747584000@sekicity.info
SUMMARY:第42回全国都市緑化ぎふフェア関連事業
DESCRIPTION:5月17日・18日「関市の名物を間近で体感しよう」\n\nフェアの会場の一つとなる岐阜県百年公園では会期中のほぼ毎週さまざまなイベントが開催されますので、皆さまぜひお出かけください。 \n5月17日・18日は市内外のより多くの方に関市を知っていただき、市内の伝統や文化に親しんでいただくため、次の体感型のイベントを開催します。 \n1.小瀬鵜飼の実演コーナー \n2.円空彫り体験 \n3.チェンソーアート公開制作 \n4.観光案内コーナー \n \n日時\n\n2025年5月17日(土曜日)・18日(日曜日)　午前10時から午後4時 \n\n会場\n\n岐阜県百年公園（関市小屋名1966番地） \n\n小瀬鵜飼の実演コーナー\n\n一千有余年の歴史をもつ小瀬鵜飼。鵜匠による鵜飼の実演や説明のほか普段は見ることのできな鵜飼に使われる道具の展示を行います。 \n時間：午前10時から午前11時、午後1時から午後2時 \n実演：小瀬鵜飼鵜匠（宮内庁式部職） \n※雨天の場合は中止 \n\n\n\n\n\n\n\n\n \n円空彫り体験\n\n時間 \n午前の回：午前10時から正午 \n午後の回：午後1時30分から午後3時30分 \n参加費：200円（材料代） \n定員：各回6名（先着順） \n対象：小学校4年生以上（小学生の場合は保護者の方の同伴が必要です） \n会場：岐阜県百年公園（関市小屋名1966番地） \n持ち物：汚れてもよい服装でご参加ください。 \nその他：彫刻刀、手袋はこちらで準備します。 \n申込み方法：都市計画課へ電話もしくはLogoフォーム（別ウインドウで開く）より申込みください。 \n申込締切：4月30日(水曜日) \nただし、定員に達し次第、締切となります。　※5月17日午後の回は定員に達しました。（3月31日：追記） \n\n\n\n\n\n※Logoフォームの受付は一人ずつとなります。\n※参加を希望する方が複数いる場合は、その都度、申込フォームを入力してください。 \n\n\n\n\n\n\n\n\n\n\nチェンソーアート公開制作\n\n市在住のチェンソーアーティストによる作品の公開制作。大きな丸太がチェンソーだけで彫刻作品に変身します。 \n時間 \n午前の回：午前11時から正午 \n午後の回：午後2時から午後3時 \n実演：チェンソーアート彫哲 \n\n\n\n\n\n\n\n\n観光案内コーナー\n\n関市内の観光ガイドブック、観光施設チラシの配布、観光案内 \n時間：午前10時から午後4時
URL:https://sekicity.info/event/20250517_18event-tirashiomote/
LOCATION:岐阜県百年公園\, 小屋名１９６６\, 関市\, 岐阜県\, 501-3941\, Japan
CATEGORIES:体験・ワークショップ
ATTACH;FMTTYPE=image/jpeg:https://sekicity.info/wp-content/uploads/2025/04/20250517_18event-tirashiomote_page-0001.jpg
END:VEVENT
BEGIN:VEVENT
DTSTART;TZID=Asia/Tokyo:20250517T090000
DTEND;TZID=Asia/Tokyo:20250517T110000
DTSTAMP:20260419T211312
CREATED:20250502T035405Z
LAST-MODIFIED:20250505T085503Z
UID:10000046-1747472400-1747479600@sekicity.info
SUMMARY:さんやほう2025①肥料散布　
DESCRIPTION:この日は肥料散布。雨天順延。 \n関市のこだわりの地酒「特別純米酒『さんやほう』」の原料米となる、農薬・化学肥料を使わない「みのにしき」。 \n応援ご賛同いただける皆さんと、田植えや草取りなどの農作業を一緒にしながら、稲の生長や収穫を楽しみ、特別純米酒「さんやほう」も味わいます。 \n〈主催〉　小坂酒造場、さんやほうサポータークラブ〈場所〉　関市黒屋字尾太下（JAめぐみの カントリーL・A・W西）　約58a〈年会費〉　2\,000円（通信費、保険代など） \n〈活動予定〉　天候、生育状況により作業の追加、変更があります。
URL:https://sekicity.info/event/sanyahou2025-1/
LOCATION:さんやほう田んぼ\, 黒屋3563番地\, 関市\, 岐阜県\, Japan
CATEGORIES:体験・ワークショップ
ATTACH;FMTTYPE=image/jpeg:https://sekicity.info/wp-content/uploads/2025/05/S__11673632.jpg
END:VEVENT
BEGIN:VEVENT
DTSTART;TZID=Asia/Tokyo:20250509T100000
DTEND;TZID=Asia/Tokyo:20250510T170000
DTSTAMP:20260419T211312
CREATED:20250406T062354Z
LAST-MODIFIED:20250430T073730Z
UID:10000024-1746784800-1746896400@sekicity.info
SUMMARY:ビジネスプラス展in SEKI 2025
DESCRIPTION:5月9日（金曜日）、10日（土曜日）の2日間、ものづくりからサービスまで、さまざまな分野の出展者が関に集結し、自慢の技術や製品などをPRします。 \n今回で12回目を迎えました！ \n \nわかくさ・プラザ　アテナ工業アリーナ（総合体育館)　メインアリーナを会場に、出展企業81社が集結し、実施します。 \n学生さんもお子さまも、どなたでも大歓迎の一般開放型の企業展で、入場は無料です。来場者には会場内を巡っていただくことで、ノベルティグッズなど、プレゼントを用意しています。 \n地元の“すてき”を見つけにきてください。 \n▶︎パンフレットPDFはこちら \n展示会場配置図・出展企業の紹介
URL:https://sekicity.info/event/business-plus-seki2025/
LOCATION:わかくさ・プラザ\, 若草通２丁目１\, 関市\, 岐阜県\, 501-3802\, Japan
CATEGORIES:体験・ワークショップ,地域交流
ATTACH;FMTTYPE=image/jpeg:https://sekicity.info/wp-content/uploads/2025/04/panfuretto_page-0001.jpg
END:VEVENT
BEGIN:VEVENT
DTSTART;TZID=Asia/Tokyo:20250427T130000
DTEND;TZID=Asia/Tokyo:20250427T160000
DTSTAMP:20260419T211312
CREATED:20250411T094757Z
LAST-MODIFIED:20250411T094757Z
UID:10000043-1745758800-1745769600@sekicity.info
SUMMARY:ダンボールコンポスト講習会
DESCRIPTION:次のとおり「ダンボールコンポスト講習会」を開催します。 \nダンボールを利用した生ごみ処理容器で、微生物の力を借りて生ごみの減量化を図りませんか。 \n\n日時\n\n令和7年4月27日（日）　午後1時～、午後2時半～ \n\n場所\n\nわかくさ・プラザ　学習情報館2階　創作実習室 \n\n対象\n\n市内在住の方 \n\n定員\n\n各回10組（申し込み順） \n\n受講料\n\n200円（ダンボールコンポスト1セット代。購入は2セットまで。必要でない方は無料） \n\n持ち物\n\n不要なTシャツ（ある方のみ、何枚でも可）\n※男性Ⅿサイズ、女性Ⅼサイズ以上\n※ダンボールコンポストの虫よけキャップの材料として今後使用させていただきます \n\n申込方法\n\n下記の申込フォームまたは電話にてお申し込みください。\n申込フォーム（別ウインドウで開く）\n電話　0575-23-7702 \n関市役所市民環境部環境課
URL:https://sekicity.info/event/compost20250426/
LOCATION:わかくさ・プラザ\, 若草通２丁目１\, 関市\, 岐阜県\, 501-3802\, Japan
CATEGORIES:体験・ワークショップ
ATTACH;FMTTYPE=image/jpeg:https://sekicity.info/wp-content/uploads/2025/04/danbochirashi_page-0001.jpg
END:VEVENT
BEGIN:VEVENT
DTSTART;TZID=Asia/Tokyo:20250427T100000
DTEND;TZID=Asia/Tokyo:20250427T160000
DTSTAMP:20260419T211312
CREATED:20250411T094237Z
LAST-MODIFIED:20250430T073810Z
UID:10000042-1745748000-1745769600@sekicity.info
SUMMARY:食の祭典（百年公園）
DESCRIPTION:関市の有名飲食店やキッチンカー🐙🥦 \n地元で活躍中のバンド&岐阜医療科学大学の学生バンド🎸 \n関市中の子供達がお絵描きしてくれた鯉のぼり🎏 \n等々、幅広くの世代の皆さんに楽しんで頂けるイベントになってます😆😆 \n家族、友人、仕事仲間の皆さんでぜひ遊びに来て下さいね😆 \n \n \n出店一覧\n・楽笑\n・笑うサカナ\n・壱\n・10CAfE\n・久助\n・ゆーすふる\n・げんてん\n・にしき\n・居酒屋はべ\n・イロドリ\n・木虎ノ箱\n・キッチングラート\n・@66\n・SundayMonday \n楽しみですね！ \n開催日時\n2025年4月27日（日）10:00～16:00 \n会場\n岐阜県百年公園　北口広場
URL:https://sekicity.info/event/hyakunen20250427/
LOCATION:岐阜県百年公園\, 小屋名１９６６\, 関市\, 岐阜県\, 501-3941\, Japan
CATEGORIES:体験・ワークショップ,地域交流,料理,親子向け,音楽・コンサート・演奏会
ATTACH;FMTTYPE=image/jpeg:https://sekicity.info/wp-content/uploads/2025/04/syokunosaiten.jpg
END:VEVENT
BEGIN:VEVENT
DTSTART;VALUE=DATE:20250419
DTEND;VALUE=DATE:20250421
DTSTAMP:20260419T211312
CREATED:20250219T075935Z
LAST-MODIFIED:20250430T073844Z
UID:10000010-1745020800-1745193599@sekicity.info
SUMMARY:関まつり2025
DESCRIPTION:”刀都・関市”の春を彩る、市民参加型のイベント「関まつり」。 \n何よりの見どころは1日目夕方からの「あんどんみこしコンクール」。郷土の特色を盛り込んだみこしや、世相を表したあんどんなど、豪華絢爛なみこしが市中を練り歩きます。美しい電飾で飾られた、たくさんのあんどんみこしが夜の町を美しく彩る姿は壮観です。 \n今年2025年は25基のあんどんみこしが登場！\n\n2025年のイベントスケジュールは以下です。 \n4/19（土）15時〜21時\n・15時～　本町パレード　(本町1丁目～本町6丁目) \n・15:50～　ステージイベント　(本町2丁目ステージ) \n・18:45～　あんどんみこしコンクール　(本町2丁目ステージ付近) \n4/20（日）16時〜20時\n・19時～　あんどんみこしコンクール表彰式・表彰パレード \n関連イベント情報\n・関どぶろく横丁（本町7丁目広場） \n \nどぶろく、日本酒、クラフトビールが楽しめる大人の屋台村が登場！ \n・春かすみの宴（せきてらす） \n \n飲食＆音楽イベントを開催！ \n 
URL:https://sekicity.info/event/sekimatsuri2025/
LOCATION:関市本町通商店街\, 本町\, 関市\, 岐阜県\, Japan
CATEGORIES:マルシェ,体験・ワークショップ,地域交流,祭り・イベント
ATTACH;FMTTYPE=image/jpeg:https://sekicity.info/wp-content/uploads/2025/02/sekimatsuri2025-1.jpg
END:VEVENT
END:VCALENDAR