BEGIN:VCALENDAR
VERSION:2.0
PRODID:-//せき情報局 - ECPv6.15.16//NONSGML v1.0//EN
CALSCALE:GREGORIAN
METHOD:PUBLISH
X-WR-CALNAME:せき情報局
X-ORIGINAL-URL:https://sekicity.info
X-WR-CALDESC:せき情報局 のイベント
REFRESH-INTERVAL;VALUE=DURATION:PT1H
X-Robots-Tag:noindex
X-PUBLISHED-TTL:PT1H
BEGIN:VTIMEZONE
TZID:Asia/Tokyo
BEGIN:STANDARD
TZOFFSETFROM:+0900
TZOFFSETTO:+0900
TZNAME:JST
DTSTART:20250101T000000
END:STANDARD
END:VTIMEZONE
BEGIN:VEVENT
DTSTART;TZID=Asia/Tokyo:20260426T100000
DTEND;TZID=Asia/Tokyo:20260426T150000
DTSTAMP:20260422T182849
CREATED:20250926T114408Z
LAST-MODIFIED:20251101T094014Z
UID:10000133-1777197600-1777215600@sekicity.info
SUMMARY:善光寺ご縁市
DESCRIPTION:関善光寺の境内で開催する、のんびり楽しむミニマルシェです。 \n毎月第4日曜日　10:00～15:00　雨天中止 \n \n 
URL:https://sekicity.info/event/%e5%96%84%e5%85%89%e5%af%ba%e3%81%94%e7%b8%81%e5%b8%82/2026-04-26/
LOCATION:関善光寺（宗休寺）\, 若草通２丁目１\, 関市\, 岐阜県\, Japan
CATEGORIES:マルシェ
ATTACH;FMTTYPE=image/jpeg:https://sekicity.info/wp-content/uploads/2025/09/善光寺-御縁市.jpg
END:VEVENT
BEGIN:VEVENT
DTSTART;TZID=Asia/Tokyo:20260524T100000
DTEND;TZID=Asia/Tokyo:20260524T150000
DTSTAMP:20260422T182849
CREATED:20250926T114408Z
LAST-MODIFIED:20251101T094014Z
UID:10000134-1779616800-1779634800@sekicity.info
SUMMARY:善光寺ご縁市
DESCRIPTION:関善光寺の境内で開催する、のんびり楽しむミニマルシェです。 \n毎月第4日曜日　10:00～15:00　雨天中止 \n \n 
URL:https://sekicity.info/event/%e5%96%84%e5%85%89%e5%af%ba%e3%81%94%e7%b8%81%e5%b8%82/2026-05-24/
LOCATION:関善光寺（宗休寺）\, 若草通２丁目１\, 関市\, 岐阜県\, Japan
CATEGORIES:マルシェ
ATTACH;FMTTYPE=image/jpeg:https://sekicity.info/wp-content/uploads/2025/09/善光寺-御縁市.jpg
END:VEVENT
BEGIN:VEVENT
DTSTART;TZID=Asia/Tokyo:20260628T100000
DTEND;TZID=Asia/Tokyo:20260628T150000
DTSTAMP:20260422T182849
CREATED:20250926T114408Z
LAST-MODIFIED:20251101T094014Z
UID:10000135-1782640800-1782658800@sekicity.info
SUMMARY:善光寺ご縁市
DESCRIPTION:関善光寺の境内で開催する、のんびり楽しむミニマルシェです。 \n毎月第4日曜日　10:00～15:00　雨天中止 \n \n 
URL:https://sekicity.info/event/%e5%96%84%e5%85%89%e5%af%ba%e3%81%94%e7%b8%81%e5%b8%82/2026-06-28/
LOCATION:関善光寺（宗休寺）\, 若草通２丁目１\, 関市\, 岐阜県\, Japan
CATEGORIES:マルシェ
ATTACH;FMTTYPE=image/jpeg:https://sekicity.info/wp-content/uploads/2025/09/善光寺-御縁市.jpg
END:VEVENT
BEGIN:VEVENT
DTSTART;TZID=Asia/Tokyo:20260726T100000
DTEND;TZID=Asia/Tokyo:20260726T150000
DTSTAMP:20260422T182849
CREATED:20250926T114408Z
LAST-MODIFIED:20251101T094014Z
UID:10000136-1785060000-1785078000@sekicity.info
SUMMARY:善光寺ご縁市
DESCRIPTION:関善光寺の境内で開催する、のんびり楽しむミニマルシェです。 \n毎月第4日曜日　10:00～15:00　雨天中止 \n \n 
URL:https://sekicity.info/event/%e5%96%84%e5%85%89%e5%af%ba%e3%81%94%e7%b8%81%e5%b8%82/2026-07-26/
LOCATION:関善光寺（宗休寺）\, 若草通２丁目１\, 関市\, 岐阜県\, Japan
CATEGORIES:マルシェ
ATTACH;FMTTYPE=image/jpeg:https://sekicity.info/wp-content/uploads/2025/09/善光寺-御縁市.jpg
END:VEVENT
BEGIN:VEVENT
DTSTART;TZID=Asia/Tokyo:20260823T100000
DTEND;TZID=Asia/Tokyo:20260823T150000
DTSTAMP:20260422T182849
CREATED:20250926T114408Z
LAST-MODIFIED:20251101T094014Z
UID:10000137-1787479200-1787497200@sekicity.info
SUMMARY:善光寺ご縁市
DESCRIPTION:関善光寺の境内で開催する、のんびり楽しむミニマルシェです。 \n毎月第4日曜日　10:00～15:00　雨天中止 \n \n 
URL:https://sekicity.info/event/%e5%96%84%e5%85%89%e5%af%ba%e3%81%94%e7%b8%81%e5%b8%82/2026-08-23/
LOCATION:関善光寺（宗休寺）\, 若草通２丁目１\, 関市\, 岐阜県\, Japan
CATEGORIES:マルシェ
ATTACH;FMTTYPE=image/jpeg:https://sekicity.info/wp-content/uploads/2025/09/善光寺-御縁市.jpg
END:VEVENT
BEGIN:VEVENT
DTSTART;TZID=Asia/Tokyo:20260927T100000
DTEND;TZID=Asia/Tokyo:20260927T150000
DTSTAMP:20260422T182849
CREATED:20250926T114408Z
LAST-MODIFIED:20251101T094014Z
UID:10000138-1790503200-1790521200@sekicity.info
SUMMARY:善光寺ご縁市
DESCRIPTION:関善光寺の境内で開催する、のんびり楽しむミニマルシェです。 \n毎月第4日曜日　10:00～15:00　雨天中止 \n \n 
URL:https://sekicity.info/event/%e5%96%84%e5%85%89%e5%af%ba%e3%81%94%e7%b8%81%e5%b8%82/2026-09-27/
LOCATION:関善光寺（宗休寺）\, 若草通２丁目１\, 関市\, 岐阜県\, Japan
CATEGORIES:マルシェ
ATTACH;FMTTYPE=image/jpeg:https://sekicity.info/wp-content/uploads/2025/09/善光寺-御縁市.jpg
END:VEVENT
BEGIN:VEVENT
DTSTART;TZID=Asia/Tokyo:20261025T100000
DTEND;TZID=Asia/Tokyo:20261025T150000
DTSTAMP:20260422T182849
CREATED:20250926T114408Z
LAST-MODIFIED:20251101T094014Z
UID:10000139-1792922400-1792940400@sekicity.info
SUMMARY:善光寺ご縁市
DESCRIPTION:関善光寺の境内で開催する、のんびり楽しむミニマルシェです。 \n毎月第4日曜日　10:00～15:00　雨天中止 \n \n 
URL:https://sekicity.info/event/%e5%96%84%e5%85%89%e5%af%ba%e3%81%94%e7%b8%81%e5%b8%82/2026-10-25/
LOCATION:関善光寺（宗休寺）\, 若草通２丁目１\, 関市\, 岐阜県\, Japan
CATEGORIES:マルシェ
ATTACH;FMTTYPE=image/jpeg:https://sekicity.info/wp-content/uploads/2025/09/善光寺-御縁市.jpg
END:VEVENT
BEGIN:VEVENT
DTSTART;TZID=Asia/Tokyo:20261122T100000
DTEND;TZID=Asia/Tokyo:20261122T150000
DTSTAMP:20260422T182849
CREATED:20250926T114408Z
LAST-MODIFIED:20251101T094014Z
UID:10000140-1795341600-1795359600@sekicity.info
SUMMARY:善光寺ご縁市
DESCRIPTION:関善光寺の境内で開催する、のんびり楽しむミニマルシェです。 \n毎月第4日曜日　10:00～15:00　雨天中止 \n \n 
URL:https://sekicity.info/event/%e5%96%84%e5%85%89%e5%af%ba%e3%81%94%e7%b8%81%e5%b8%82/2026-11-22/
LOCATION:関善光寺（宗休寺）\, 若草通２丁目１\, 関市\, 岐阜県\, Japan
CATEGORIES:マルシェ
ATTACH;FMTTYPE=image/jpeg:https://sekicity.info/wp-content/uploads/2025/09/善光寺-御縁市.jpg
END:VEVENT
BEGIN:VEVENT
DTSTART;TZID=Asia/Tokyo:20261227T100000
DTEND;TZID=Asia/Tokyo:20261227T150000
DTSTAMP:20260422T182849
CREATED:20250926T114408Z
LAST-MODIFIED:20251101T094014Z
UID:10000141-1798365600-1798383600@sekicity.info
SUMMARY:善光寺ご縁市
DESCRIPTION:関善光寺の境内で開催する、のんびり楽しむミニマルシェです。 \n毎月第4日曜日　10:00～15:00　雨天中止 \n \n 
URL:https://sekicity.info/event/%e5%96%84%e5%85%89%e5%af%ba%e3%81%94%e7%b8%81%e5%b8%82/2026-12-27/
LOCATION:関善光寺（宗休寺）\, 若草通２丁目１\, 関市\, 岐阜県\, Japan
CATEGORIES:マルシェ
ATTACH;FMTTYPE=image/jpeg:https://sekicity.info/wp-content/uploads/2025/09/善光寺-御縁市.jpg
END:VEVENT
BEGIN:VEVENT
DTSTART;TZID=Asia/Tokyo:20270124T100000
DTEND;TZID=Asia/Tokyo:20270124T150000
DTSTAMP:20260422T182849
CREATED:20250926T114408Z
LAST-MODIFIED:20251101T094014Z
UID:10000142-1800784800-1800802800@sekicity.info
SUMMARY:善光寺ご縁市
DESCRIPTION:関善光寺の境内で開催する、のんびり楽しむミニマルシェです。 \n毎月第4日曜日　10:00～15:00　雨天中止 \n \n 
URL:https://sekicity.info/event/%e5%96%84%e5%85%89%e5%af%ba%e3%81%94%e7%b8%81%e5%b8%82/2027-01-24/
LOCATION:関善光寺（宗休寺）\, 若草通２丁目１\, 関市\, 岐阜県\, Japan
CATEGORIES:マルシェ
ATTACH;FMTTYPE=image/jpeg:https://sekicity.info/wp-content/uploads/2025/09/善光寺-御縁市.jpg
END:VEVENT
BEGIN:VEVENT
DTSTART;TZID=Asia/Tokyo:20270228T100000
DTEND;TZID=Asia/Tokyo:20270228T150000
DTSTAMP:20260422T182849
CREATED:20250926T114408Z
LAST-MODIFIED:20251101T094014Z
UID:10000143-1803808800-1803826800@sekicity.info
SUMMARY:善光寺ご縁市
DESCRIPTION:関善光寺の境内で開催する、のんびり楽しむミニマルシェです。 \n毎月第4日曜日　10:00～15:00　雨天中止 \n \n 
URL:https://sekicity.info/event/%e5%96%84%e5%85%89%e5%af%ba%e3%81%94%e7%b8%81%e5%b8%82/2027-02-28/
LOCATION:関善光寺（宗休寺）\, 若草通２丁目１\, 関市\, 岐阜県\, Japan
CATEGORIES:マルシェ
ATTACH;FMTTYPE=image/jpeg:https://sekicity.info/wp-content/uploads/2025/09/善光寺-御縁市.jpg
END:VEVENT
BEGIN:VEVENT
DTSTART;TZID=Asia/Tokyo:20270328T100000
DTEND;TZID=Asia/Tokyo:20270328T150000
DTSTAMP:20260422T182849
CREATED:20250926T114408Z
LAST-MODIFIED:20251101T094014Z
UID:10000144-1806228000-1806246000@sekicity.info
SUMMARY:善光寺ご縁市
DESCRIPTION:関善光寺の境内で開催する、のんびり楽しむミニマルシェです。 \n毎月第4日曜日　10:00～15:00　雨天中止 \n \n 
URL:https://sekicity.info/event/%e5%96%84%e5%85%89%e5%af%ba%e3%81%94%e7%b8%81%e5%b8%82/2027-03-28/
LOCATION:関善光寺（宗休寺）\, 若草通２丁目１\, 関市\, 岐阜県\, Japan
CATEGORIES:マルシェ
ATTACH;FMTTYPE=image/jpeg:https://sekicity.info/wp-content/uploads/2025/09/善光寺-御縁市.jpg
END:VEVENT
BEGIN:VEVENT
DTSTART;TZID=Asia/Tokyo:20270425T100000
DTEND;TZID=Asia/Tokyo:20270425T150000
DTSTAMP:20260422T182849
CREATED:20250926T114408Z
LAST-MODIFIED:20251101T094014Z
UID:10000145-1808647200-1808665200@sekicity.info
SUMMARY:善光寺ご縁市
DESCRIPTION:関善光寺の境内で開催する、のんびり楽しむミニマルシェです。 \n毎月第4日曜日　10:00～15:00　雨天中止 \n \n 
URL:https://sekicity.info/event/%e5%96%84%e5%85%89%e5%af%ba%e3%81%94%e7%b8%81%e5%b8%82/2027-04-25/
LOCATION:関善光寺（宗休寺）\, 若草通２丁目１\, 関市\, 岐阜県\, Japan
CATEGORIES:マルシェ
ATTACH;FMTTYPE=image/jpeg:https://sekicity.info/wp-content/uploads/2025/09/善光寺-御縁市.jpg
END:VEVENT
BEGIN:VEVENT
DTSTART;TZID=Asia/Tokyo:20270523T100000
DTEND;TZID=Asia/Tokyo:20270523T150000
DTSTAMP:20260422T182849
CREATED:20250926T114408Z
LAST-MODIFIED:20251101T094014Z
UID:10000146-1811066400-1811084400@sekicity.info
SUMMARY:善光寺ご縁市
DESCRIPTION:関善光寺の境内で開催する、のんびり楽しむミニマルシェです。 \n毎月第4日曜日　10:00～15:00　雨天中止 \n \n 
URL:https://sekicity.info/event/%e5%96%84%e5%85%89%e5%af%ba%e3%81%94%e7%b8%81%e5%b8%82/2027-05-23/
LOCATION:関善光寺（宗休寺）\, 若草通２丁目１\, 関市\, 岐阜県\, Japan
CATEGORIES:マルシェ
ATTACH;FMTTYPE=image/jpeg:https://sekicity.info/wp-content/uploads/2025/09/善光寺-御縁市.jpg
END:VEVENT
BEGIN:VEVENT
DTSTART;TZID=Asia/Tokyo:20270627T100000
DTEND;TZID=Asia/Tokyo:20270627T150000
DTSTAMP:20260422T182849
CREATED:20250926T114408Z
LAST-MODIFIED:20251101T094014Z
UID:10000147-1814090400-1814108400@sekicity.info
SUMMARY:善光寺ご縁市
DESCRIPTION:関善光寺の境内で開催する、のんびり楽しむミニマルシェです。 \n毎月第4日曜日　10:00～15:00　雨天中止 \n \n 
URL:https://sekicity.info/event/%e5%96%84%e5%85%89%e5%af%ba%e3%81%94%e7%b8%81%e5%b8%82/2027-06-27/
LOCATION:関善光寺（宗休寺）\, 若草通２丁目１\, 関市\, 岐阜県\, Japan
CATEGORIES:マルシェ
ATTACH;FMTTYPE=image/jpeg:https://sekicity.info/wp-content/uploads/2025/09/善光寺-御縁市.jpg
END:VEVENT
BEGIN:VEVENT
DTSTART;TZID=Asia/Tokyo:20270725T100000
DTEND;TZID=Asia/Tokyo:20270725T150000
DTSTAMP:20260422T182849
CREATED:20250926T114408Z
LAST-MODIFIED:20251101T094014Z
UID:10000148-1816509600-1816527600@sekicity.info
SUMMARY:善光寺ご縁市
DESCRIPTION:関善光寺の境内で開催する、のんびり楽しむミニマルシェです。 \n毎月第4日曜日　10:00～15:00　雨天中止 \n \n 
URL:https://sekicity.info/event/%e5%96%84%e5%85%89%e5%af%ba%e3%81%94%e7%b8%81%e5%b8%82/2027-07-25/
LOCATION:関善光寺（宗休寺）\, 若草通２丁目１\, 関市\, 岐阜県\, Japan
CATEGORIES:マルシェ
ATTACH;FMTTYPE=image/jpeg:https://sekicity.info/wp-content/uploads/2025/09/善光寺-御縁市.jpg
END:VEVENT
BEGIN:VEVENT
DTSTART;TZID=Asia/Tokyo:20270822T100000
DTEND;TZID=Asia/Tokyo:20270822T150000
DTSTAMP:20260422T182849
CREATED:20250926T114408Z
LAST-MODIFIED:20251101T094014Z
UID:10000149-1818928800-1818946800@sekicity.info
SUMMARY:善光寺ご縁市
DESCRIPTION:関善光寺の境内で開催する、のんびり楽しむミニマルシェです。 \n毎月第4日曜日　10:00～15:00　雨天中止 \n \n 
URL:https://sekicity.info/event/%e5%96%84%e5%85%89%e5%af%ba%e3%81%94%e7%b8%81%e5%b8%82/2027-08-22/
LOCATION:関善光寺（宗休寺）\, 若草通２丁目１\, 関市\, 岐阜県\, Japan
CATEGORIES:マルシェ
ATTACH;FMTTYPE=image/jpeg:https://sekicity.info/wp-content/uploads/2025/09/善光寺-御縁市.jpg
END:VEVENT
BEGIN:VEVENT
DTSTART;TZID=Asia/Tokyo:20270926T100000
DTEND;TZID=Asia/Tokyo:20270926T150000
DTSTAMP:20260422T182849
CREATED:20250926T114408Z
LAST-MODIFIED:20251101T094014Z
UID:10000150-1821952800-1821970800@sekicity.info
SUMMARY:善光寺ご縁市
DESCRIPTION:関善光寺の境内で開催する、のんびり楽しむミニマルシェです。 \n毎月第4日曜日　10:00～15:00　雨天中止 \n \n 
URL:https://sekicity.info/event/%e5%96%84%e5%85%89%e5%af%ba%e3%81%94%e7%b8%81%e5%b8%82/2027-09-26/
LOCATION:関善光寺（宗休寺）\, 若草通２丁目１\, 関市\, 岐阜県\, Japan
CATEGORIES:マルシェ
ATTACH;FMTTYPE=image/jpeg:https://sekicity.info/wp-content/uploads/2025/09/善光寺-御縁市.jpg
END:VEVENT
BEGIN:VEVENT
DTSTART;TZID=Asia/Tokyo:20271024T100000
DTEND;TZID=Asia/Tokyo:20271024T150000
DTSTAMP:20260422T182849
CREATED:20250926T114408Z
LAST-MODIFIED:20251101T094014Z
UID:10000151-1824372000-1824390000@sekicity.info
SUMMARY:善光寺ご縁市
DESCRIPTION:関善光寺の境内で開催する、のんびり楽しむミニマルシェです。 \n毎月第4日曜日　10:00～15:00　雨天中止 \n \n 
URL:https://sekicity.info/event/%e5%96%84%e5%85%89%e5%af%ba%e3%81%94%e7%b8%81%e5%b8%82/2027-10-24/
LOCATION:関善光寺（宗休寺）\, 若草通２丁目１\, 関市\, 岐阜県\, Japan
CATEGORIES:マルシェ
ATTACH;FMTTYPE=image/jpeg:https://sekicity.info/wp-content/uploads/2025/09/善光寺-御縁市.jpg
END:VEVENT
BEGIN:VEVENT
DTSTART;TZID=Asia/Tokyo:20271128T100000
DTEND;TZID=Asia/Tokyo:20271128T150000
DTSTAMP:20260422T182849
CREATED:20250926T114408Z
LAST-MODIFIED:20251101T094014Z
UID:10000152-1827396000-1827414000@sekicity.info
SUMMARY:善光寺ご縁市
DESCRIPTION:関善光寺の境内で開催する、のんびり楽しむミニマルシェです。 \n毎月第4日曜日　10:00～15:00　雨天中止 \n \n 
URL:https://sekicity.info/event/%e5%96%84%e5%85%89%e5%af%ba%e3%81%94%e7%b8%81%e5%b8%82/2027-11-28/
LOCATION:関善光寺（宗休寺）\, 若草通２丁目１\, 関市\, 岐阜県\, Japan
CATEGORIES:マルシェ
ATTACH;FMTTYPE=image/jpeg:https://sekicity.info/wp-content/uploads/2025/09/善光寺-御縁市.jpg
END:VEVENT
BEGIN:VEVENT
DTSTART;TZID=Asia/Tokyo:20271226T100000
DTEND;TZID=Asia/Tokyo:20271226T150000
DTSTAMP:20260422T182849
CREATED:20250926T114408Z
LAST-MODIFIED:20251101T094014Z
UID:10000153-1829815200-1829833200@sekicity.info
SUMMARY:善光寺ご縁市
DESCRIPTION:関善光寺の境内で開催する、のんびり楽しむミニマルシェです。 \n毎月第4日曜日　10:00～15:00　雨天中止 \n \n 
URL:https://sekicity.info/event/%e5%96%84%e5%85%89%e5%af%ba%e3%81%94%e7%b8%81%e5%b8%82/2027-12-26/
LOCATION:関善光寺（宗休寺）\, 若草通２丁目１\, 関市\, 岐阜県\, Japan
CATEGORIES:マルシェ
ATTACH;FMTTYPE=image/jpeg:https://sekicity.info/wp-content/uploads/2025/09/善光寺-御縁市.jpg
END:VEVENT
BEGIN:VEVENT
DTSTART;TZID=Asia/Tokyo:20280123T100000
DTEND;TZID=Asia/Tokyo:20280123T150000
DTSTAMP:20260422T182849
CREATED:20250926T114408Z
LAST-MODIFIED:20251101T094014Z
UID:10000154-1832234400-1832252400@sekicity.info
SUMMARY:善光寺ご縁市
DESCRIPTION:関善光寺の境内で開催する、のんびり楽しむミニマルシェです。 \n毎月第4日曜日　10:00～15:00　雨天中止 \n \n 
URL:https://sekicity.info/event/%e5%96%84%e5%85%89%e5%af%ba%e3%81%94%e7%b8%81%e5%b8%82/2028-01-23/
LOCATION:関善光寺（宗休寺）\, 若草通２丁目１\, 関市\, 岐阜県\, Japan
CATEGORIES:マルシェ
ATTACH;FMTTYPE=image/jpeg:https://sekicity.info/wp-content/uploads/2025/09/善光寺-御縁市.jpg
END:VEVENT
BEGIN:VEVENT
DTSTART;TZID=Asia/Tokyo:20280227T100000
DTEND;TZID=Asia/Tokyo:20280227T150000
DTSTAMP:20260422T182849
CREATED:20250926T114408Z
LAST-MODIFIED:20251101T094014Z
UID:10000155-1835258400-1835276400@sekicity.info
SUMMARY:善光寺ご縁市
DESCRIPTION:関善光寺の境内で開催する、のんびり楽しむミニマルシェです。 \n毎月第4日曜日　10:00～15:00　雨天中止 \n \n 
URL:https://sekicity.info/event/%e5%96%84%e5%85%89%e5%af%ba%e3%81%94%e7%b8%81%e5%b8%82/2028-02-27/
LOCATION:関善光寺（宗休寺）\, 若草通２丁目１\, 関市\, 岐阜県\, Japan
CATEGORIES:マルシェ
ATTACH;FMTTYPE=image/jpeg:https://sekicity.info/wp-content/uploads/2025/09/善光寺-御縁市.jpg
END:VEVENT
BEGIN:VEVENT
DTSTART;TZID=Asia/Tokyo:20280326T100000
DTEND;TZID=Asia/Tokyo:20280326T150000
DTSTAMP:20260422T182849
CREATED:20250926T114408Z
LAST-MODIFIED:20251101T094014Z
UID:10000156-1837677600-1837695600@sekicity.info
SUMMARY:善光寺ご縁市
DESCRIPTION:関善光寺の境内で開催する、のんびり楽しむミニマルシェです。 \n毎月第4日曜日　10:00～15:00　雨天中止 \n \n 
URL:https://sekicity.info/event/%e5%96%84%e5%85%89%e5%af%ba%e3%81%94%e7%b8%81%e5%b8%82/2028-03-26/
LOCATION:関善光寺（宗休寺）\, 若草通２丁目１\, 関市\, 岐阜県\, Japan
CATEGORIES:マルシェ
ATTACH;FMTTYPE=image/jpeg:https://sekicity.info/wp-content/uploads/2025/09/善光寺-御縁市.jpg
END:VEVENT
BEGIN:VEVENT
DTSTART;TZID=Asia/Tokyo:20280423T100000
DTEND;TZID=Asia/Tokyo:20280423T150000
DTSTAMP:20260422T182849
CREATED:20250926T114408Z
LAST-MODIFIED:20251101T094014Z
UID:10000157-1840096800-1840114800@sekicity.info
SUMMARY:善光寺ご縁市
DESCRIPTION:関善光寺の境内で開催する、のんびり楽しむミニマルシェです。 \n毎月第4日曜日　10:00～15:00　雨天中止 \n \n 
URL:https://sekicity.info/event/%e5%96%84%e5%85%89%e5%af%ba%e3%81%94%e7%b8%81%e5%b8%82/2028-04-23/
LOCATION:関善光寺（宗休寺）\, 若草通２丁目１\, 関市\, 岐阜県\, Japan
CATEGORIES:マルシェ
ATTACH;FMTTYPE=image/jpeg:https://sekicity.info/wp-content/uploads/2025/09/善光寺-御縁市.jpg
END:VEVENT
BEGIN:VEVENT
DTSTART;TZID=Asia/Tokyo:20280528T100000
DTEND;TZID=Asia/Tokyo:20280528T150000
DTSTAMP:20260422T182849
CREATED:20250926T114408Z
LAST-MODIFIED:20251101T094014Z
UID:10000158-1843120800-1843138800@sekicity.info
SUMMARY:善光寺ご縁市
DESCRIPTION:関善光寺の境内で開催する、のんびり楽しむミニマルシェです。 \n毎月第4日曜日　10:00～15:00　雨天中止 \n \n 
URL:https://sekicity.info/event/%e5%96%84%e5%85%89%e5%af%ba%e3%81%94%e7%b8%81%e5%b8%82/2028-05-28/
LOCATION:関善光寺（宗休寺）\, 若草通２丁目１\, 関市\, 岐阜県\, Japan
CATEGORIES:マルシェ
ATTACH;FMTTYPE=image/jpeg:https://sekicity.info/wp-content/uploads/2025/09/善光寺-御縁市.jpg
END:VEVENT
BEGIN:VEVENT
DTSTART;TZID=Asia/Tokyo:20280625T100000
DTEND;TZID=Asia/Tokyo:20280625T150000
DTSTAMP:20260422T182849
CREATED:20250926T114408Z
LAST-MODIFIED:20251101T094014Z
UID:10000159-1845540000-1845558000@sekicity.info
SUMMARY:善光寺ご縁市
DESCRIPTION:関善光寺の境内で開催する、のんびり楽しむミニマルシェです。 \n毎月第4日曜日　10:00～15:00　雨天中止 \n \n 
URL:https://sekicity.info/event/%e5%96%84%e5%85%89%e5%af%ba%e3%81%94%e7%b8%81%e5%b8%82/2028-06-25/
LOCATION:関善光寺（宗休寺）\, 若草通２丁目１\, 関市\, 岐阜県\, Japan
CATEGORIES:マルシェ
ATTACH;FMTTYPE=image/jpeg:https://sekicity.info/wp-content/uploads/2025/09/善光寺-御縁市.jpg
END:VEVENT
BEGIN:VEVENT
DTSTART;TZID=Asia/Tokyo:20280723T100000
DTEND;TZID=Asia/Tokyo:20280723T150000
DTSTAMP:20260422T182849
CREATED:20250926T114408Z
LAST-MODIFIED:20251101T094014Z
UID:10000160-1847959200-1847977200@sekicity.info
SUMMARY:善光寺ご縁市
DESCRIPTION:関善光寺の境内で開催する、のんびり楽しむミニマルシェです。 \n毎月第4日曜日　10:00～15:00　雨天中止 \n \n 
URL:https://sekicity.info/event/%e5%96%84%e5%85%89%e5%af%ba%e3%81%94%e7%b8%81%e5%b8%82/2028-07-23/
LOCATION:関善光寺（宗休寺）\, 若草通２丁目１\, 関市\, 岐阜県\, Japan
CATEGORIES:マルシェ
ATTACH;FMTTYPE=image/jpeg:https://sekicity.info/wp-content/uploads/2025/09/善光寺-御縁市.jpg
END:VEVENT
BEGIN:VEVENT
DTSTART;TZID=Asia/Tokyo:20280827T100000
DTEND;TZID=Asia/Tokyo:20280827T150000
DTSTAMP:20260422T182849
CREATED:20250926T114408Z
LAST-MODIFIED:20251101T094014Z
UID:10000161-1850983200-1851001200@sekicity.info
SUMMARY:善光寺ご縁市
DESCRIPTION:関善光寺の境内で開催する、のんびり楽しむミニマルシェです。 \n毎月第4日曜日　10:00～15:00　雨天中止 \n \n 
URL:https://sekicity.info/event/%e5%96%84%e5%85%89%e5%af%ba%e3%81%94%e7%b8%81%e5%b8%82/2028-08-27/
LOCATION:関善光寺（宗休寺）\, 若草通２丁目１\, 関市\, 岐阜県\, Japan
CATEGORIES:マルシェ
ATTACH;FMTTYPE=image/jpeg:https://sekicity.info/wp-content/uploads/2025/09/善光寺-御縁市.jpg
END:VEVENT
BEGIN:VEVENT
DTSTART;TZID=Asia/Tokyo:20280924T100000
DTEND;TZID=Asia/Tokyo:20280924T150000
DTSTAMP:20260422T182849
CREATED:20250926T114408Z
LAST-MODIFIED:20251101T094014Z
UID:10000162-1853402400-1853420400@sekicity.info
SUMMARY:善光寺ご縁市
DESCRIPTION:関善光寺の境内で開催する、のんびり楽しむミニマルシェです。 \n毎月第4日曜日　10:00～15:00　雨天中止 \n \n 
URL:https://sekicity.info/event/%e5%96%84%e5%85%89%e5%af%ba%e3%81%94%e7%b8%81%e5%b8%82/2028-09-24/
LOCATION:関善光寺（宗休寺）\, 若草通２丁目１\, 関市\, 岐阜県\, Japan
CATEGORIES:マルシェ
ATTACH;FMTTYPE=image/jpeg:https://sekicity.info/wp-content/uploads/2025/09/善光寺-御縁市.jpg
END:VEVENT
END:VCALENDAR